BEGIN:VCALENDAR
VERSION:2.0
PRODID:-//Southside Church - ECPv6.15.12.2//NONSGML v1.0//EN
CALSCALE:GREGORIAN
METHOD:PUBLISH
X-WR-CALNAME:Southside Church
X-ORIGINAL-URL:https://southside.org.au
X-WR-CALDESC:Events for Southside Church
REFRESH-INTERVAL;VALUE=DURATION:PT1H
X-Robots-Tag:noindex
X-PUBLISHED-TTL:PT1H
BEGIN:VTIMEZONE
TZID:Australia/Sydney
BEGIN:STANDARD
TZOFFSETFROM:+1100
TZOFFSETTO:+1000
TZNAME:AEST
DTSTART:20260404T160000
END:STANDARD
BEGIN:DAYLIGHT
TZOFFSETFROM:+1000
TZOFFSETTO:+1100
TZNAME:AEDT
DTSTART:20261003T160000
END:DAYLIGHT
BEGIN:STANDARD
TZOFFSETFROM:+1100
TZOFFSETTO:+1000
TZNAME:AEST
DTSTART:20270403T160000
END:STANDARD
BEGIN:DAYLIGHT
TZOFFSETFROM:+1000
TZOFFSETTO:+1100
TZNAME:AEDT
DTSTART:20271002T160000
END:DAYLIGHT
BEGIN:STANDARD
TZOFFSETFROM:+1100
TZOFFSETTO:+1000
TZNAME:AEST
DTSTART:20280401T160000
END:STANDARD
BEGIN:DAYLIGHT
TZOFFSETFROM:+1000
TZOFFSETTO:+1100
TZNAME:AEDT
DTSTART:20280930T160000
END:DAYLIGHT
END:VTIMEZONE
BEGIN:VEVENT
DTSTART;TZID=Australia/Sydney:20270602T090000
DTEND;TZID=Australia/Sydney:20270602T160000
DTSTAMP:20260421T061722
CREATED:20250515T061209Z
LAST-MODIFIED:20251217T012542Z
UID:10003116-1811926800-1811952000@southside.org.au
SUMMARY:Southside Care Op Shop
DESCRIPTION:The Southside Care Op Shop continues the Southside Church’s mission to provide practical care with dignity and compassion.
URL:https://southside.org.au/event/southside-care-op-shop/2027-06-02/
LOCATION:Southside Care Op Shop\, 175 Port Hacking Road\, Miranda\, NSW\, 2228\, Australia
CATEGORIES:Op Shop,Southside Care
ATTACH;FMTTYPE=image/jpeg:https://southside.org.au/wp-content/uploads/2025/05/southsidecareopshop.jpg
ORGANIZER;CN="Southside Care Op Shop":MAILTO:opshop@southside.org.au
END:VEVENT
BEGIN:VEVENT
DTSTART;TZID=Australia/Sydney:20270603T090000
DTEND;TZID=Australia/Sydney:20270603T160000
DTSTAMP:20260421T061722
CREATED:20250515T061209Z
LAST-MODIFIED:20251217T012542Z
UID:10003117-1812013200-1812038400@southside.org.au
SUMMARY:Southside Care Op Shop
DESCRIPTION:The Southside Care Op Shop continues the Southside Church’s mission to provide practical care with dignity and compassion.
URL:https://southside.org.au/event/southside-care-op-shop/2027-06-03/
LOCATION:Southside Care Op Shop\, 175 Port Hacking Road\, Miranda\, NSW\, 2228\, Australia
CATEGORIES:Op Shop,Southside Care
ATTACH;FMTTYPE=image/jpeg:https://southside.org.au/wp-content/uploads/2025/05/southsidecareopshop.jpg
ORGANIZER;CN="Southside Care Op Shop":MAILTO:opshop@southside.org.au
END:VEVENT
BEGIN:VEVENT
DTSTART;TZID=Australia/Sydney:20270604T090000
DTEND;TZID=Australia/Sydney:20270604T160000
DTSTAMP:20260421T061722
CREATED:20250515T061209Z
LAST-MODIFIED:20251217T012542Z
UID:10003118-1812099600-1812124800@southside.org.au
SUMMARY:Southside Care Op Shop
DESCRIPTION:The Southside Care Op Shop continues the Southside Church’s mission to provide practical care with dignity and compassion.
URL:https://southside.org.au/event/southside-care-op-shop/2027-06-04/
LOCATION:Southside Care Op Shop\, 175 Port Hacking Road\, Miranda\, NSW\, 2228\, Australia
CATEGORIES:Op Shop,Southside Care
ATTACH;FMTTYPE=image/jpeg:https://southside.org.au/wp-content/uploads/2025/05/southsidecareopshop.jpg
ORGANIZER;CN="Southside Care Op Shop":MAILTO:opshop@southside.org.au
END:VEVENT
BEGIN:VEVENT
DTSTART;TZID=Australia/Sydney:20270609T090000
DTEND;TZID=Australia/Sydney:20270609T160000
DTSTAMP:20260421T061722
CREATED:20250515T061209Z
LAST-MODIFIED:20251217T012542Z
UID:10003119-1812531600-1812556800@southside.org.au
SUMMARY:Southside Care Op Shop
DESCRIPTION:The Southside Care Op Shop continues the Southside Church’s mission to provide practical care with dignity and compassion.
URL:https://southside.org.au/event/southside-care-op-shop/2027-06-09/
LOCATION:Southside Care Op Shop\, 175 Port Hacking Road\, Miranda\, NSW\, 2228\, Australia
CATEGORIES:Op Shop,Southside Care
ATTACH;FMTTYPE=image/jpeg:https://southside.org.au/wp-content/uploads/2025/05/southsidecareopshop.jpg
ORGANIZER;CN="Southside Care Op Shop":MAILTO:opshop@southside.org.au
END:VEVENT
BEGIN:VEVENT
DTSTART;TZID=Australia/Sydney:20270610T090000
DTEND;TZID=Australia/Sydney:20270610T160000
DTSTAMP:20260421T061722
CREATED:20250515T061209Z
LAST-MODIFIED:20251217T012542Z
UID:10003120-1812618000-1812643200@southside.org.au
SUMMARY:Southside Care Op Shop
DESCRIPTION:The Southside Care Op Shop continues the Southside Church’s mission to provide practical care with dignity and compassion.
URL:https://southside.org.au/event/southside-care-op-shop/2027-06-10/
LOCATION:Southside Care Op Shop\, 175 Port Hacking Road\, Miranda\, NSW\, 2228\, Australia
CATEGORIES:Op Shop,Southside Care
ATTACH;FMTTYPE=image/jpeg:https://southside.org.au/wp-content/uploads/2025/05/southsidecareopshop.jpg
ORGANIZER;CN="Southside Care Op Shop":MAILTO:opshop@southside.org.au
END:VEVENT
BEGIN:VEVENT
DTSTART;TZID=Australia/Sydney:20270611T090000
DTEND;TZID=Australia/Sydney:20270611T160000
DTSTAMP:20260421T061722
CREATED:20250515T061209Z
LAST-MODIFIED:20251217T012542Z
UID:10003121-1812704400-1812729600@southside.org.au
SUMMARY:Southside Care Op Shop
DESCRIPTION:The Southside Care Op Shop continues the Southside Church’s mission to provide practical care with dignity and compassion.
URL:https://southside.org.au/event/southside-care-op-shop/2027-06-11/
LOCATION:Southside Care Op Shop\, 175 Port Hacking Road\, Miranda\, NSW\, 2228\, Australia
CATEGORIES:Op Shop,Southside Care
ATTACH;FMTTYPE=image/jpeg:https://southside.org.au/wp-content/uploads/2025/05/southsidecareopshop.jpg
ORGANIZER;CN="Southside Care Op Shop":MAILTO:opshop@southside.org.au
END:VEVENT
BEGIN:VEVENT
DTSTART;TZID=Australia/Sydney:20270616T090000
DTEND;TZID=Australia/Sydney:20270616T160000
DTSTAMP:20260421T061722
CREATED:20250515T061209Z
LAST-MODIFIED:20251217T012542Z
UID:10003122-1813136400-1813161600@southside.org.au
SUMMARY:Southside Care Op Shop
DESCRIPTION:The Southside Care Op Shop continues the Southside Church’s mission to provide practical care with dignity and compassion.
URL:https://southside.org.au/event/southside-care-op-shop/2027-06-16/
LOCATION:Southside Care Op Shop\, 175 Port Hacking Road\, Miranda\, NSW\, 2228\, Australia
CATEGORIES:Op Shop,Southside Care
ATTACH;FMTTYPE=image/jpeg:https://southside.org.au/wp-content/uploads/2025/05/southsidecareopshop.jpg
ORGANIZER;CN="Southside Care Op Shop":MAILTO:opshop@southside.org.au
END:VEVENT
BEGIN:VEVENT
DTSTART;TZID=Australia/Sydney:20270617T090000
DTEND;TZID=Australia/Sydney:20270617T160000
DTSTAMP:20260421T061722
CREATED:20250515T061209Z
LAST-MODIFIED:20251217T012542Z
UID:10003123-1813222800-1813248000@southside.org.au
SUMMARY:Southside Care Op Shop
DESCRIPTION:The Southside Care Op Shop continues the Southside Church’s mission to provide practical care with dignity and compassion.
URL:https://southside.org.au/event/southside-care-op-shop/2027-06-17/
LOCATION:Southside Care Op Shop\, 175 Port Hacking Road\, Miranda\, NSW\, 2228\, Australia
CATEGORIES:Op Shop,Southside Care
ATTACH;FMTTYPE=image/jpeg:https://southside.org.au/wp-content/uploads/2025/05/southsidecareopshop.jpg
ORGANIZER;CN="Southside Care Op Shop":MAILTO:opshop@southside.org.au
END:VEVENT
BEGIN:VEVENT
DTSTART;TZID=Australia/Sydney:20270618T090000
DTEND;TZID=Australia/Sydney:20270618T160000
DTSTAMP:20260421T061722
CREATED:20250515T061209Z
LAST-MODIFIED:20251217T012542Z
UID:10003124-1813309200-1813334400@southside.org.au
SUMMARY:Southside Care Op Shop
DESCRIPTION:The Southside Care Op Shop continues the Southside Church’s mission to provide practical care with dignity and compassion.
URL:https://southside.org.au/event/southside-care-op-shop/2027-06-18/
LOCATION:Southside Care Op Shop\, 175 Port Hacking Road\, Miranda\, NSW\, 2228\, Australia
CATEGORIES:Op Shop,Southside Care
ATTACH;FMTTYPE=image/jpeg:https://southside.org.au/wp-content/uploads/2025/05/southsidecareopshop.jpg
ORGANIZER;CN="Southside Care Op Shop":MAILTO:opshop@southside.org.au
END:VEVENT
BEGIN:VEVENT
DTSTART;TZID=Australia/Sydney:20270623T090000
DTEND;TZID=Australia/Sydney:20270623T160000
DTSTAMP:20260421T061722
CREATED:20250515T061209Z
LAST-MODIFIED:20251217T012542Z
UID:10003125-1813741200-1813766400@southside.org.au
SUMMARY:Southside Care Op Shop
DESCRIPTION:The Southside Care Op Shop continues the Southside Church’s mission to provide practical care with dignity and compassion.
URL:https://southside.org.au/event/southside-care-op-shop/2027-06-23/
LOCATION:Southside Care Op Shop\, 175 Port Hacking Road\, Miranda\, NSW\, 2228\, Australia
CATEGORIES:Op Shop,Southside Care
ATTACH;FMTTYPE=image/jpeg:https://southside.org.au/wp-content/uploads/2025/05/southsidecareopshop.jpg
ORGANIZER;CN="Southside Care Op Shop":MAILTO:opshop@southside.org.au
END:VEVENT
BEGIN:VEVENT
DTSTART;TZID=Australia/Sydney:20270624T090000
DTEND;TZID=Australia/Sydney:20270624T160000
DTSTAMP:20260421T061722
CREATED:20250515T061209Z
LAST-MODIFIED:20251217T012542Z
UID:10003126-1813827600-1813852800@southside.org.au
SUMMARY:Southside Care Op Shop
DESCRIPTION:The Southside Care Op Shop continues the Southside Church’s mission to provide practical care with dignity and compassion.
URL:https://southside.org.au/event/southside-care-op-shop/2027-06-24/
LOCATION:Southside Care Op Shop\, 175 Port Hacking Road\, Miranda\, NSW\, 2228\, Australia
CATEGORIES:Op Shop,Southside Care
ATTACH;FMTTYPE=image/jpeg:https://southside.org.au/wp-content/uploads/2025/05/southsidecareopshop.jpg
ORGANIZER;CN="Southside Care Op Shop":MAILTO:opshop@southside.org.au
END:VEVENT
BEGIN:VEVENT
DTSTART;TZID=Australia/Sydney:20270625T090000
DTEND;TZID=Australia/Sydney:20270625T160000
DTSTAMP:20260421T061722
CREATED:20250515T061209Z
LAST-MODIFIED:20251217T012542Z
UID:10003127-1813914000-1813939200@southside.org.au
SUMMARY:Southside Care Op Shop
DESCRIPTION:The Southside Care Op Shop continues the Southside Church’s mission to provide practical care with dignity and compassion.
URL:https://southside.org.au/event/southside-care-op-shop/2027-06-25/
LOCATION:Southside Care Op Shop\, 175 Port Hacking Road\, Miranda\, NSW\, 2228\, Australia
CATEGORIES:Op Shop,Southside Care
ATTACH;FMTTYPE=image/jpeg:https://southside.org.au/wp-content/uploads/2025/05/southsidecareopshop.jpg
ORGANIZER;CN="Southside Care Op Shop":MAILTO:opshop@southside.org.au
END:VEVENT
BEGIN:VEVENT
DTSTART;TZID=Australia/Sydney:20270626T090000
DTEND;TZID=Australia/Sydney:20270626T130000
DTSTAMP:20260421T061722
CREATED:20250515T061844Z
LAST-MODIFIED:20250515T063828Z
UID:10003604-1814000400-1814014800@southside.org.au
SUMMARY:Southside Care Op Shop - Saturday
DESCRIPTION:The Southside Care Op Shop continues the Southside Church’s mission to provide practical care with dignity and compassion.
URL:https://southside.org.au/event/op-shop-saturday/2027-06-26/
LOCATION:Southside Care Op Shop\, 175 Port Hacking Road\, Miranda\, NSW\, 2228\, Australia
CATEGORIES:Op Shop
ATTACH;FMTTYPE=image/jpeg:https://southside.org.au/wp-content/uploads/2025/05/southsidecareopshop.jpg
ORGANIZER;CN="Southside Care Op Shop":MAILTO:opshop@southside.org.au
END:VEVENT
BEGIN:VEVENT
DTSTART;TZID=Australia/Sydney:20270630T090000
DTEND;TZID=Australia/Sydney:20270630T160000
DTSTAMP:20260421T061722
CREATED:20250515T061209Z
LAST-MODIFIED:20251217T012542Z
UID:10003128-1814346000-1814371200@southside.org.au
SUMMARY:Southside Care Op Shop
DESCRIPTION:The Southside Care Op Shop continues the Southside Church’s mission to provide practical care with dignity and compassion.
URL:https://southside.org.au/event/southside-care-op-shop/2027-06-30/
LOCATION:Southside Care Op Shop\, 175 Port Hacking Road\, Miranda\, NSW\, 2228\, Australia
CATEGORIES:Op Shop,Southside Care
ATTACH;FMTTYPE=image/jpeg:https://southside.org.au/wp-content/uploads/2025/05/southsidecareopshop.jpg
ORGANIZER;CN="Southside Care Op Shop":MAILTO:opshop@southside.org.au
END:VEVENT
END:VCALENDAR