BEGIN:VCALENDAR
VERSION:2.0
PRODID:-//Southside Church - ECPv6.15.12.2//NONSGML v1.0//EN
CALSCALE:GREGORIAN
METHOD:PUBLISH
X-ORIGINAL-URL:https://southside.org.au
X-WR-CALDESC:Events for Southside Church
REFRESH-INTERVAL;VALUE=DURATION:PT1H
X-Robots-Tag:noindex
X-PUBLISHED-TTL:PT1H
BEGIN:VTIMEZONE
TZID:Australia/Sydney
BEGIN:STANDARD
TZOFFSETFROM:+1100
TZOFFSETTO:+1000
TZNAME:AEST
DTSTART:20260404T160000
END:STANDARD
BEGIN:DAYLIGHT
TZOFFSETFROM:+1000
TZOFFSETTO:+1100
TZNAME:AEDT
DTSTART:20261003T160000
END:DAYLIGHT
BEGIN:STANDARD
TZOFFSETFROM:+1100
TZOFFSETTO:+1000
TZNAME:AEST
DTSTART:20270403T160000
END:STANDARD
BEGIN:DAYLIGHT
TZOFFSETFROM:+1000
TZOFFSETTO:+1100
TZNAME:AEDT
DTSTART:20271002T160000
END:DAYLIGHT
BEGIN:STANDARD
TZOFFSETFROM:+1100
TZOFFSETTO:+1000
TZNAME:AEST
DTSTART:20280401T160000
END:STANDARD
BEGIN:DAYLIGHT
TZOFFSETFROM:+1000
TZOFFSETTO:+1100
TZNAME:AEDT
DTSTART:20280930T160000
END:DAYLIGHT
END:VTIMEZONE
BEGIN:VEVENT
DTSTART;TZID=Australia/Sydney:20270701T090000
DTEND;TZID=Australia/Sydney:20270701T160000
DTSTAMP:20260421T062804
CREATED:20250515T061209Z
LAST-MODIFIED:20251217T012542Z
UID:10003129-1814432400-1814457600@southside.org.au
SUMMARY:Southside Care Op Shop
DESCRIPTION:The Southside Care Op Shop continues the Southside Church’s mission to provide practical care with dignity and compassion.
URL:https://southside.org.au/event/southside-care-op-shop/2027-07-01/
LOCATION:Southside Care Op Shop\, 175 Port Hacking Road\, Miranda\, NSW\, 2228\, Australia
CATEGORIES:Op Shop,Southside Care
ATTACH;FMTTYPE=image/jpeg:https://southside.org.au/wp-content/uploads/2025/05/southsidecareopshop.jpg
ORGANIZER;CN="Southside Care Op Shop":MAILTO:opshop@southside.org.au
END:VEVENT
BEGIN:VEVENT
DTSTART;TZID=Australia/Sydney:20270702T090000
DTEND;TZID=Australia/Sydney:20270702T160000
DTSTAMP:20260421T062804
CREATED:20250515T061209Z
LAST-MODIFIED:20251217T012542Z
UID:10003130-1814518800-1814544000@southside.org.au
SUMMARY:Southside Care Op Shop
DESCRIPTION:The Southside Care Op Shop continues the Southside Church’s mission to provide practical care with dignity and compassion.
URL:https://southside.org.au/event/southside-care-op-shop/2027-07-02/
LOCATION:Southside Care Op Shop\, 175 Port Hacking Road\, Miranda\, NSW\, 2228\, Australia
CATEGORIES:Op Shop,Southside Care
ATTACH;FMTTYPE=image/jpeg:https://southside.org.au/wp-content/uploads/2025/05/southsidecareopshop.jpg
ORGANIZER;CN="Southside Care Op Shop":MAILTO:opshop@southside.org.au
END:VEVENT
BEGIN:VEVENT
DTSTART;TZID=Australia/Sydney:20270707T090000
DTEND;TZID=Australia/Sydney:20270707T160000
DTSTAMP:20260421T062804
CREATED:20250515T061209Z
LAST-MODIFIED:20251217T012542Z
UID:10003131-1814950800-1814976000@southside.org.au
SUMMARY:Southside Care Op Shop
DESCRIPTION:The Southside Care Op Shop continues the Southside Church’s mission to provide practical care with dignity and compassion.
URL:https://southside.org.au/event/southside-care-op-shop/2027-07-07/
LOCATION:Southside Care Op Shop\, 175 Port Hacking Road\, Miranda\, NSW\, 2228\, Australia
CATEGORIES:Op Shop,Southside Care
ATTACH;FMTTYPE=image/jpeg:https://southside.org.au/wp-content/uploads/2025/05/southsidecareopshop.jpg
ORGANIZER;CN="Southside Care Op Shop":MAILTO:opshop@southside.org.au
END:VEVENT
BEGIN:VEVENT
DTSTART;TZID=Australia/Sydney:20270708T090000
DTEND;TZID=Australia/Sydney:20270708T160000
DTSTAMP:20260421T062804
CREATED:20250515T061209Z
LAST-MODIFIED:20251217T012542Z
UID:10003132-1815037200-1815062400@southside.org.au
SUMMARY:Southside Care Op Shop
DESCRIPTION:The Southside Care Op Shop continues the Southside Church’s mission to provide practical care with dignity and compassion.
URL:https://southside.org.au/event/southside-care-op-shop/2027-07-08/
LOCATION:Southside Care Op Shop\, 175 Port Hacking Road\, Miranda\, NSW\, 2228\, Australia
CATEGORIES:Op Shop,Southside Care
ATTACH;FMTTYPE=image/jpeg:https://southside.org.au/wp-content/uploads/2025/05/southsidecareopshop.jpg
ORGANIZER;CN="Southside Care Op Shop":MAILTO:opshop@southside.org.au
END:VEVENT
BEGIN:VEVENT
DTSTART;TZID=Australia/Sydney:20270709T090000
DTEND;TZID=Australia/Sydney:20270709T160000
DTSTAMP:20260421T062804
CREATED:20250515T061209Z
LAST-MODIFIED:20251217T012542Z
UID:10003133-1815123600-1815148800@southside.org.au
SUMMARY:Southside Care Op Shop
DESCRIPTION:The Southside Care Op Shop continues the Southside Church’s mission to provide practical care with dignity and compassion.
URL:https://southside.org.au/event/southside-care-op-shop/2027-07-09/
LOCATION:Southside Care Op Shop\, 175 Port Hacking Road\, Miranda\, NSW\, 2228\, Australia
CATEGORIES:Op Shop,Southside Care
ATTACH;FMTTYPE=image/jpeg:https://southside.org.au/wp-content/uploads/2025/05/southsidecareopshop.jpg
ORGANIZER;CN="Southside Care Op Shop":MAILTO:opshop@southside.org.au
END:VEVENT
BEGIN:VEVENT
DTSTART;TZID=Australia/Sydney:20270714T090000
DTEND;TZID=Australia/Sydney:20270714T160000
DTSTAMP:20260421T062804
CREATED:20250515T061209Z
LAST-MODIFIED:20251217T012542Z
UID:10003134-1815555600-1815580800@southside.org.au
SUMMARY:Southside Care Op Shop
DESCRIPTION:The Southside Care Op Shop continues the Southside Church’s mission to provide practical care with dignity and compassion.
URL:https://southside.org.au/event/southside-care-op-shop/2027-07-14/
LOCATION:Southside Care Op Shop\, 175 Port Hacking Road\, Miranda\, NSW\, 2228\, Australia
CATEGORIES:Op Shop,Southside Care
ATTACH;FMTTYPE=image/jpeg:https://southside.org.au/wp-content/uploads/2025/05/southsidecareopshop.jpg
ORGANIZER;CN="Southside Care Op Shop":MAILTO:opshop@southside.org.au
END:VEVENT
BEGIN:VEVENT
DTSTART;TZID=Australia/Sydney:20270715T090000
DTEND;TZID=Australia/Sydney:20270715T160000
DTSTAMP:20260421T062804
CREATED:20250515T061209Z
LAST-MODIFIED:20251217T012542Z
UID:10003135-1815642000-1815667200@southside.org.au
SUMMARY:Southside Care Op Shop
DESCRIPTION:The Southside Care Op Shop continues the Southside Church’s mission to provide practical care with dignity and compassion.
URL:https://southside.org.au/event/southside-care-op-shop/2027-07-15/
LOCATION:Southside Care Op Shop\, 175 Port Hacking Road\, Miranda\, NSW\, 2228\, Australia
CATEGORIES:Op Shop,Southside Care
ATTACH;FMTTYPE=image/jpeg:https://southside.org.au/wp-content/uploads/2025/05/southsidecareopshop.jpg
ORGANIZER;CN="Southside Care Op Shop":MAILTO:opshop@southside.org.au
END:VEVENT
BEGIN:VEVENT
DTSTART;TZID=Australia/Sydney:20270716T090000
DTEND;TZID=Australia/Sydney:20270716T160000
DTSTAMP:20260421T062804
CREATED:20250515T061209Z
LAST-MODIFIED:20251217T012542Z
UID:10003136-1815728400-1815753600@southside.org.au
SUMMARY:Southside Care Op Shop
DESCRIPTION:The Southside Care Op Shop continues the Southside Church’s mission to provide practical care with dignity and compassion.
URL:https://southside.org.au/event/southside-care-op-shop/2027-07-16/
LOCATION:Southside Care Op Shop\, 175 Port Hacking Road\, Miranda\, NSW\, 2228\, Australia
CATEGORIES:Op Shop,Southside Care
ATTACH;FMTTYPE=image/jpeg:https://southside.org.au/wp-content/uploads/2025/05/southsidecareopshop.jpg
ORGANIZER;CN="Southside Care Op Shop":MAILTO:opshop@southside.org.au
END:VEVENT
BEGIN:VEVENT
DTSTART;TZID=Australia/Sydney:20270721T090000
DTEND;TZID=Australia/Sydney:20270721T160000
DTSTAMP:20260421T062804
CREATED:20250515T061209Z
LAST-MODIFIED:20251217T012542Z
UID:10003137-1816160400-1816185600@southside.org.au
SUMMARY:Southside Care Op Shop
DESCRIPTION:The Southside Care Op Shop continues the Southside Church’s mission to provide practical care with dignity and compassion.
URL:https://southside.org.au/event/southside-care-op-shop/2027-07-21/
LOCATION:Southside Care Op Shop\, 175 Port Hacking Road\, Miranda\, NSW\, 2228\, Australia
CATEGORIES:Op Shop,Southside Care
ATTACH;FMTTYPE=image/jpeg:https://southside.org.au/wp-content/uploads/2025/05/southsidecareopshop.jpg
ORGANIZER;CN="Southside Care Op Shop":MAILTO:opshop@southside.org.au
END:VEVENT
BEGIN:VEVENT
DTSTART;TZID=Australia/Sydney:20270722T090000
DTEND;TZID=Australia/Sydney:20270722T160000
DTSTAMP:20260421T062804
CREATED:20250515T061209Z
LAST-MODIFIED:20251217T012542Z
UID:10003138-1816246800-1816272000@southside.org.au
SUMMARY:Southside Care Op Shop
DESCRIPTION:The Southside Care Op Shop continues the Southside Church’s mission to provide practical care with dignity and compassion.
URL:https://southside.org.au/event/southside-care-op-shop/2027-07-22/
LOCATION:Southside Care Op Shop\, 175 Port Hacking Road\, Miranda\, NSW\, 2228\, Australia
CATEGORIES:Op Shop,Southside Care
ATTACH;FMTTYPE=image/jpeg:https://southside.org.au/wp-content/uploads/2025/05/southsidecareopshop.jpg
ORGANIZER;CN="Southside Care Op Shop":MAILTO:opshop@southside.org.au
END:VEVENT
BEGIN:VEVENT
DTSTART;TZID=Australia/Sydney:20270723T090000
DTEND;TZID=Australia/Sydney:20270723T160000
DTSTAMP:20260421T062804
CREATED:20250515T061209Z
LAST-MODIFIED:20251217T012542Z
UID:10003139-1816333200-1816358400@southside.org.au
SUMMARY:Southside Care Op Shop
DESCRIPTION:The Southside Care Op Shop continues the Southside Church’s mission to provide practical care with dignity and compassion.
URL:https://southside.org.au/event/southside-care-op-shop/2027-07-23/
LOCATION:Southside Care Op Shop\, 175 Port Hacking Road\, Miranda\, NSW\, 2228\, Australia
CATEGORIES:Op Shop,Southside Care
ATTACH;FMTTYPE=image/jpeg:https://southside.org.au/wp-content/uploads/2025/05/southsidecareopshop.jpg
ORGANIZER;CN="Southside Care Op Shop":MAILTO:opshop@southside.org.au
END:VEVENT
BEGIN:VEVENT
DTSTART;TZID=Australia/Sydney:20270728T090000
DTEND;TZID=Australia/Sydney:20270728T160000
DTSTAMP:20260421T062804
CREATED:20250515T061209Z
LAST-MODIFIED:20251217T012542Z
UID:10003140-1816765200-1816790400@southside.org.au
SUMMARY:Southside Care Op Shop
DESCRIPTION:The Southside Care Op Shop continues the Southside Church’s mission to provide practical care with dignity and compassion.
URL:https://southside.org.au/event/southside-care-op-shop/2027-07-28/
LOCATION:Southside Care Op Shop\, 175 Port Hacking Road\, Miranda\, NSW\, 2228\, Australia
CATEGORIES:Op Shop,Southside Care
ATTACH;FMTTYPE=image/jpeg:https://southside.org.au/wp-content/uploads/2025/05/southsidecareopshop.jpg
ORGANIZER;CN="Southside Care Op Shop":MAILTO:opshop@southside.org.au
END:VEVENT
BEGIN:VEVENT
DTSTART;TZID=Australia/Sydney:20270729T090000
DTEND;TZID=Australia/Sydney:20270729T160000
DTSTAMP:20260421T062804
CREATED:20250515T061209Z
LAST-MODIFIED:20251217T012542Z
UID:10003141-1816851600-1816876800@southside.org.au
SUMMARY:Southside Care Op Shop
DESCRIPTION:The Southside Care Op Shop continues the Southside Church’s mission to provide practical care with dignity and compassion.
URL:https://southside.org.au/event/southside-care-op-shop/2027-07-29/
LOCATION:Southside Care Op Shop\, 175 Port Hacking Road\, Miranda\, NSW\, 2228\, Australia
CATEGORIES:Op Shop,Southside Care
ATTACH;FMTTYPE=image/jpeg:https://southside.org.au/wp-content/uploads/2025/05/southsidecareopshop.jpg
ORGANIZER;CN="Southside Care Op Shop":MAILTO:opshop@southside.org.au
END:VEVENT
BEGIN:VEVENT
DTSTART;TZID=Australia/Sydney:20270730T090000
DTEND;TZID=Australia/Sydney:20270730T160000
DTSTAMP:20260421T062804
CREATED:20250515T061209Z
LAST-MODIFIED:20251217T012542Z
UID:10003142-1816938000-1816963200@southside.org.au
SUMMARY:Southside Care Op Shop
DESCRIPTION:The Southside Care Op Shop continues the Southside Church’s mission to provide practical care with dignity and compassion.
URL:https://southside.org.au/event/southside-care-op-shop/2027-07-30/
LOCATION:Southside Care Op Shop\, 175 Port Hacking Road\, Miranda\, NSW\, 2228\, Australia
CATEGORIES:Op Shop,Southside Care
ATTACH;FMTTYPE=image/jpeg:https://southside.org.au/wp-content/uploads/2025/05/southsidecareopshop.jpg
ORGANIZER;CN="Southside Care Op Shop":MAILTO:opshop@southside.org.au
END:VEVENT
BEGIN:VEVENT
DTSTART;TZID=Australia/Sydney:20270731T090000
DTEND;TZID=Australia/Sydney:20270731T130000
DTSTAMP:20260421T062804
CREATED:20250515T061844Z
LAST-MODIFIED:20250515T063828Z
UID:10003605-1817024400-1817038800@southside.org.au
SUMMARY:Southside Care Op Shop - Saturday
DESCRIPTION:The Southside Care Op Shop continues the Southside Church’s mission to provide practical care with dignity and compassion.
URL:https://southside.org.au/event/op-shop-saturday/2027-07-31/
LOCATION:Southside Care Op Shop\, 175 Port Hacking Road\, Miranda\, NSW\, 2228\, Australia
CATEGORIES:Op Shop
ATTACH;FMTTYPE=image/jpeg:https://southside.org.au/wp-content/uploads/2025/05/southsidecareopshop.jpg
ORGANIZER;CN="Southside Care Op Shop":MAILTO:opshop@southside.org.au
END:VEVENT
END:VCALENDAR