BEGIN:VCALENDAR
VERSION:2.0
PRODID:-//Southside Church - ECPv6.15.12.2//NONSGML v1.0//EN
CALSCALE:GREGORIAN
METHOD:PUBLISH
X-ORIGINAL-URL:https://southside.org.au
X-WR-CALDESC:Events for Southside Church
REFRESH-INTERVAL;VALUE=DURATION:PT1H
X-Robots-Tag:noindex
X-PUBLISHED-TTL:PT1H
BEGIN:VTIMEZONE
TZID:Australia/Sydney
BEGIN:STANDARD
TZOFFSETFROM:+1100
TZOFFSETTO:+1000
TZNAME:AEST
DTSTART:20280401T160000
END:STANDARD
BEGIN:DAYLIGHT
TZOFFSETFROM:+1000
TZOFFSETTO:+1100
TZNAME:AEDT
DTSTART:20280930T160000
END:DAYLIGHT
BEGIN:STANDARD
TZOFFSETFROM:+1100
TZOFFSETTO:+1000
TZNAME:AEST
DTSTART:20290331T160000
END:STANDARD
BEGIN:DAYLIGHT
TZOFFSETFROM:+1000
TZOFFSETTO:+1100
TZNAME:AEDT
DTSTART:20291006T160000
END:DAYLIGHT
BEGIN:STANDARD
TZOFFSETFROM:+1100
TZOFFSETTO:+1000
TZNAME:AEST
DTSTART:20300406T160000
END:STANDARD
BEGIN:DAYLIGHT
TZOFFSETFROM:+1000
TZOFFSETTO:+1100
TZNAME:AEDT
DTSTART:20301005T160000
END:DAYLIGHT
END:VTIMEZONE
BEGIN:VEVENT
DTSTART;TZID=Australia/Sydney:20290404T090000
DTEND;TZID=Australia/Sydney:20290404T160000
DTSTAMP:20260421T024551
CREATED:20250515T061209Z
LAST-MODIFIED:20251217T012542Z
UID:10003404-1869987600-1870012800@southside.org.au
SUMMARY:Southside Care Op Shop
DESCRIPTION:The Southside Care Op Shop continues the Southside Church’s mission to provide practical care with dignity and compassion.
URL:https://southside.org.au/event/southside-care-op-shop/2029-04-04/
LOCATION:Southside Care Op Shop\, 175 Port Hacking Road\, Miranda\, NSW\, 2228\, Australia
CATEGORIES:Op Shop,Southside Care
ATTACH;FMTTYPE=image/jpeg:https://southside.org.au/wp-content/uploads/2025/05/southsidecareopshop.jpg
ORGANIZER;CN="Southside Care Op Shop":MAILTO:opshop@southside.org.au
END:VEVENT
BEGIN:VEVENT
DTSTART;TZID=Australia/Sydney:20290405T090000
DTEND;TZID=Australia/Sydney:20290405T160000
DTSTAMP:20260421T024551
CREATED:20250515T061209Z
LAST-MODIFIED:20251217T012542Z
UID:10003405-1870074000-1870099200@southside.org.au
SUMMARY:Southside Care Op Shop
DESCRIPTION:The Southside Care Op Shop continues the Southside Church’s mission to provide practical care with dignity and compassion.
URL:https://southside.org.au/event/southside-care-op-shop/2029-04-05/
LOCATION:Southside Care Op Shop\, 175 Port Hacking Road\, Miranda\, NSW\, 2228\, Australia
CATEGORIES:Op Shop,Southside Care
ATTACH;FMTTYPE=image/jpeg:https://southside.org.au/wp-content/uploads/2025/05/southsidecareopshop.jpg
ORGANIZER;CN="Southside Care Op Shop":MAILTO:opshop@southside.org.au
END:VEVENT
BEGIN:VEVENT
DTSTART;TZID=Australia/Sydney:20290406T090000
DTEND;TZID=Australia/Sydney:20290406T160000
DTSTAMP:20260421T024551
CREATED:20250515T061209Z
LAST-MODIFIED:20251217T012542Z
UID:10003406-1870160400-1870185600@southside.org.au
SUMMARY:Southside Care Op Shop
DESCRIPTION:The Southside Care Op Shop continues the Southside Church’s mission to provide practical care with dignity and compassion.
URL:https://southside.org.au/event/southside-care-op-shop/2029-04-06/
LOCATION:Southside Care Op Shop\, 175 Port Hacking Road\, Miranda\, NSW\, 2228\, Australia
CATEGORIES:Op Shop,Southside Care
ATTACH;FMTTYPE=image/jpeg:https://southside.org.au/wp-content/uploads/2025/05/southsidecareopshop.jpg
ORGANIZER;CN="Southside Care Op Shop":MAILTO:opshop@southside.org.au
END:VEVENT
BEGIN:VEVENT
DTSTART;TZID=Australia/Sydney:20290411T090000
DTEND;TZID=Australia/Sydney:20290411T160000
DTSTAMP:20260421T024551
CREATED:20250515T061209Z
LAST-MODIFIED:20251217T012542Z
UID:10003407-1870592400-1870617600@southside.org.au
SUMMARY:Southside Care Op Shop
DESCRIPTION:The Southside Care Op Shop continues the Southside Church’s mission to provide practical care with dignity and compassion.
URL:https://southside.org.au/event/southside-care-op-shop/2029-04-11/
LOCATION:Southside Care Op Shop\, 175 Port Hacking Road\, Miranda\, NSW\, 2228\, Australia
CATEGORIES:Op Shop,Southside Care
ATTACH;FMTTYPE=image/jpeg:https://southside.org.au/wp-content/uploads/2025/05/southsidecareopshop.jpg
ORGANIZER;CN="Southside Care Op Shop":MAILTO:opshop@southside.org.au
END:VEVENT
BEGIN:VEVENT
DTSTART;TZID=Australia/Sydney:20290412T090000
DTEND;TZID=Australia/Sydney:20290412T160000
DTSTAMP:20260421T024551
CREATED:20250515T061209Z
LAST-MODIFIED:20251217T012542Z
UID:10003408-1870678800-1870704000@southside.org.au
SUMMARY:Southside Care Op Shop
DESCRIPTION:The Southside Care Op Shop continues the Southside Church’s mission to provide practical care with dignity and compassion.
URL:https://southside.org.au/event/southside-care-op-shop/2029-04-12/
LOCATION:Southside Care Op Shop\, 175 Port Hacking Road\, Miranda\, NSW\, 2228\, Australia
CATEGORIES:Op Shop,Southside Care
ATTACH;FMTTYPE=image/jpeg:https://southside.org.au/wp-content/uploads/2025/05/southsidecareopshop.jpg
ORGANIZER;CN="Southside Care Op Shop":MAILTO:opshop@southside.org.au
END:VEVENT
BEGIN:VEVENT
DTSTART;TZID=Australia/Sydney:20290413T090000
DTEND;TZID=Australia/Sydney:20290413T160000
DTSTAMP:20260421T024551
CREATED:20250515T061209Z
LAST-MODIFIED:20251217T012542Z
UID:10003409-1870765200-1870790400@southside.org.au
SUMMARY:Southside Care Op Shop
DESCRIPTION:The Southside Care Op Shop continues the Southside Church’s mission to provide practical care with dignity and compassion.
URL:https://southside.org.au/event/southside-care-op-shop/2029-04-13/
LOCATION:Southside Care Op Shop\, 175 Port Hacking Road\, Miranda\, NSW\, 2228\, Australia
CATEGORIES:Op Shop,Southside Care
ATTACH;FMTTYPE=image/jpeg:https://southside.org.au/wp-content/uploads/2025/05/southsidecareopshop.jpg
ORGANIZER;CN="Southside Care Op Shop":MAILTO:opshop@southside.org.au
END:VEVENT
BEGIN:VEVENT
DTSTART;TZID=Australia/Sydney:20290418T090000
DTEND;TZID=Australia/Sydney:20290418T160000
DTSTAMP:20260421T024551
CREATED:20250515T061209Z
LAST-MODIFIED:20251217T012542Z
UID:10003410-1871197200-1871222400@southside.org.au
SUMMARY:Southside Care Op Shop
DESCRIPTION:The Southside Care Op Shop continues the Southside Church’s mission to provide practical care with dignity and compassion.
URL:https://southside.org.au/event/southside-care-op-shop/2029-04-18/
LOCATION:Southside Care Op Shop\, 175 Port Hacking Road\, Miranda\, NSW\, 2228\, Australia
CATEGORIES:Op Shop,Southside Care
ATTACH;FMTTYPE=image/jpeg:https://southside.org.au/wp-content/uploads/2025/05/southsidecareopshop.jpg
ORGANIZER;CN="Southside Care Op Shop":MAILTO:opshop@southside.org.au
END:VEVENT
BEGIN:VEVENT
DTSTART;TZID=Australia/Sydney:20290419T090000
DTEND;TZID=Australia/Sydney:20290419T160000
DTSTAMP:20260421T024551
CREATED:20250515T061209Z
LAST-MODIFIED:20251217T012542Z
UID:10003411-1871283600-1871308800@southside.org.au
SUMMARY:Southside Care Op Shop
DESCRIPTION:The Southside Care Op Shop continues the Southside Church’s mission to provide practical care with dignity and compassion.
URL:https://southside.org.au/event/southside-care-op-shop/2029-04-19/
LOCATION:Southside Care Op Shop\, 175 Port Hacking Road\, Miranda\, NSW\, 2228\, Australia
CATEGORIES:Op Shop,Southside Care
ATTACH;FMTTYPE=image/jpeg:https://southside.org.au/wp-content/uploads/2025/05/southsidecareopshop.jpg
ORGANIZER;CN="Southside Care Op Shop":MAILTO:opshop@southside.org.au
END:VEVENT
BEGIN:VEVENT
DTSTART;TZID=Australia/Sydney:20290420T090000
DTEND;TZID=Australia/Sydney:20290420T160000
DTSTAMP:20260421T024551
CREATED:20250515T061209Z
LAST-MODIFIED:20251217T012542Z
UID:10003412-1871370000-1871395200@southside.org.au
SUMMARY:Southside Care Op Shop
DESCRIPTION:The Southside Care Op Shop continues the Southside Church’s mission to provide practical care with dignity and compassion.
URL:https://southside.org.au/event/southside-care-op-shop/2029-04-20/
LOCATION:Southside Care Op Shop\, 175 Port Hacking Road\, Miranda\, NSW\, 2228\, Australia
CATEGORIES:Op Shop,Southside Care
ATTACH;FMTTYPE=image/jpeg:https://southside.org.au/wp-content/uploads/2025/05/southsidecareopshop.jpg
ORGANIZER;CN="Southside Care Op Shop":MAILTO:opshop@southside.org.au
END:VEVENT
BEGIN:VEVENT
DTSTART;TZID=Australia/Sydney:20290425T090000
DTEND;TZID=Australia/Sydney:20290425T160000
DTSTAMP:20260421T024551
CREATED:20250515T061209Z
LAST-MODIFIED:20251217T012542Z
UID:10003413-1871802000-1871827200@southside.org.au
SUMMARY:Southside Care Op Shop
DESCRIPTION:The Southside Care Op Shop continues the Southside Church’s mission to provide practical care with dignity and compassion.
URL:https://southside.org.au/event/southside-care-op-shop/2029-04-25/
LOCATION:Southside Care Op Shop\, 175 Port Hacking Road\, Miranda\, NSW\, 2228\, Australia
CATEGORIES:Op Shop,Southside Care
ATTACH;FMTTYPE=image/jpeg:https://southside.org.au/wp-content/uploads/2025/05/southsidecareopshop.jpg
ORGANIZER;CN="Southside Care Op Shop":MAILTO:opshop@southside.org.au
END:VEVENT
BEGIN:VEVENT
DTSTART;TZID=Australia/Sydney:20290426T090000
DTEND;TZID=Australia/Sydney:20290426T160000
DTSTAMP:20260421T024551
CREATED:20250515T061209Z
LAST-MODIFIED:20251217T012542Z
UID:10003414-1871888400-1871913600@southside.org.au
SUMMARY:Southside Care Op Shop
DESCRIPTION:The Southside Care Op Shop continues the Southside Church’s mission to provide practical care with dignity and compassion.
URL:https://southside.org.au/event/southside-care-op-shop/2029-04-26/
LOCATION:Southside Care Op Shop\, 175 Port Hacking Road\, Miranda\, NSW\, 2228\, Australia
CATEGORIES:Op Shop,Southside Care
ATTACH;FMTTYPE=image/jpeg:https://southside.org.au/wp-content/uploads/2025/05/southsidecareopshop.jpg
ORGANIZER;CN="Southside Care Op Shop":MAILTO:opshop@southside.org.au
END:VEVENT
BEGIN:VEVENT
DTSTART;TZID=Australia/Sydney:20290427T090000
DTEND;TZID=Australia/Sydney:20290427T160000
DTSTAMP:20260421T024551
CREATED:20250515T061209Z
LAST-MODIFIED:20251217T012542Z
UID:10003415-1871974800-1872000000@southside.org.au
SUMMARY:Southside Care Op Shop
DESCRIPTION:The Southside Care Op Shop continues the Southside Church’s mission to provide practical care with dignity and compassion.
URL:https://southside.org.au/event/southside-care-op-shop/2029-04-27/
LOCATION:Southside Care Op Shop\, 175 Port Hacking Road\, Miranda\, NSW\, 2228\, Australia
CATEGORIES:Op Shop,Southside Care
ATTACH;FMTTYPE=image/jpeg:https://southside.org.au/wp-content/uploads/2025/05/southsidecareopshop.jpg
ORGANIZER;CN="Southside Care Op Shop":MAILTO:opshop@southside.org.au
END:VEVENT
BEGIN:VEVENT
DTSTART;TZID=Australia/Sydney:20290428T090000
DTEND;TZID=Australia/Sydney:20290428T130000
DTSTAMP:20260421T024551
CREATED:20250515T061844Z
LAST-MODIFIED:20250515T063828Z
UID:10003626-1872061200-1872075600@southside.org.au
SUMMARY:Southside Care Op Shop - Saturday
DESCRIPTION:The Southside Care Op Shop continues the Southside Church’s mission to provide practical care with dignity and compassion.
URL:https://southside.org.au/event/op-shop-saturday/2029-04-28/
LOCATION:Southside Care Op Shop\, 175 Port Hacking Road\, Miranda\, NSW\, 2228\, Australia
CATEGORIES:Op Shop
ATTACH;FMTTYPE=image/jpeg:https://southside.org.au/wp-content/uploads/2025/05/southsidecareopshop.jpg
ORGANIZER;CN="Southside Care Op Shop":MAILTO:opshop@southside.org.au
END:VEVENT
END:VCALENDAR