BEGIN:VCALENDAR
VERSION:2.0
PRODID:-//Southside Church - ECPv6.15.12.2//NONSGML v1.0//EN
CALSCALE:GREGORIAN
METHOD:PUBLISH
X-WR-CALNAME:Southside Church
X-ORIGINAL-URL:https://southside.org.au
X-WR-CALDESC:Events for Southside Church
REFRESH-INTERVAL;VALUE=DURATION:PT1H
X-Robots-Tag:noindex
X-PUBLISHED-TTL:PT1H
BEGIN:VTIMEZONE
TZID:Australia/Sydney
BEGIN:STANDARD
TZOFFSETFROM:+1100
TZOFFSETTO:+1000
TZNAME:AEST
DTSTART:20290331T160000
END:STANDARD
BEGIN:DAYLIGHT
TZOFFSETFROM:+1000
TZOFFSETTO:+1100
TZNAME:AEDT
DTSTART:20291006T160000
END:DAYLIGHT
BEGIN:STANDARD
TZOFFSETFROM:+1100
TZOFFSETTO:+1000
TZNAME:AEST
DTSTART:20300406T160000
END:STANDARD
BEGIN:DAYLIGHT
TZOFFSETFROM:+1000
TZOFFSETTO:+1100
TZNAME:AEDT
DTSTART:20301005T160000
END:DAYLIGHT
BEGIN:STANDARD
TZOFFSETFROM:+1100
TZOFFSETTO:+1000
TZNAME:AEST
DTSTART:20310405T160000
END:STANDARD
BEGIN:DAYLIGHT
TZOFFSETFROM:+1000
TZOFFSETTO:+1100
TZNAME:AEDT
DTSTART:20311004T160000
END:DAYLIGHT
END:VTIMEZONE
BEGIN:VEVENT
DTSTART;TZID=Australia/Sydney:20300118T090000
DTEND;TZID=Australia/Sydney:20300118T160000
DTSTAMP:20260421T133059
CREATED:20250515T061209Z
LAST-MODIFIED:20251217T012542Z
UID:10003529-1894957200-1894982400@southside.org.au
SUMMARY:Southside Care Op Shop
DESCRIPTION:The Southside Care Op Shop continues the Southside Church’s mission to provide practical care with dignity and compassion.
URL:https://southside.org.au/event/southside-care-op-shop/2030-01-18/
LOCATION:Southside Care Op Shop\, 175 Port Hacking Road\, Miranda\, NSW\, 2228\, Australia
CATEGORIES:Op Shop,Southside Care
ATTACH;FMTTYPE=image/jpeg:https://southside.org.au/wp-content/uploads/2025/05/southsidecareopshop.jpg
ORGANIZER;CN="Southside Care Op Shop":MAILTO:opshop@southside.org.au
END:VEVENT
BEGIN:VEVENT
DTSTART;TZID=Australia/Sydney:20300123T090000
DTEND;TZID=Australia/Sydney:20300123T160000
DTSTAMP:20260421T133059
CREATED:20250515T061209Z
LAST-MODIFIED:20251217T012542Z
UID:10003530-1895389200-1895414400@southside.org.au
SUMMARY:Southside Care Op Shop
DESCRIPTION:The Southside Care Op Shop continues the Southside Church’s mission to provide practical care with dignity and compassion.
URL:https://southside.org.au/event/southside-care-op-shop/2030-01-23/
LOCATION:Southside Care Op Shop\, 175 Port Hacking Road\, Miranda\, NSW\, 2228\, Australia
CATEGORIES:Op Shop,Southside Care
ATTACH;FMTTYPE=image/jpeg:https://southside.org.au/wp-content/uploads/2025/05/southsidecareopshop.jpg
ORGANIZER;CN="Southside Care Op Shop":MAILTO:opshop@southside.org.au
END:VEVENT
BEGIN:VEVENT
DTSTART;TZID=Australia/Sydney:20300124T090000
DTEND;TZID=Australia/Sydney:20300124T160000
DTSTAMP:20260421T133059
CREATED:20250515T061209Z
LAST-MODIFIED:20251217T012542Z
UID:10003531-1895475600-1895500800@southside.org.au
SUMMARY:Southside Care Op Shop
DESCRIPTION:The Southside Care Op Shop continues the Southside Church’s mission to provide practical care with dignity and compassion.
URL:https://southside.org.au/event/southside-care-op-shop/2030-01-24/
LOCATION:Southside Care Op Shop\, 175 Port Hacking Road\, Miranda\, NSW\, 2228\, Australia
CATEGORIES:Op Shop,Southside Care
ATTACH;FMTTYPE=image/jpeg:https://southside.org.au/wp-content/uploads/2025/05/southsidecareopshop.jpg
ORGANIZER;CN="Southside Care Op Shop":MAILTO:opshop@southside.org.au
END:VEVENT
BEGIN:VEVENT
DTSTART;TZID=Australia/Sydney:20300125T090000
DTEND;TZID=Australia/Sydney:20300125T160000
DTSTAMP:20260421T133059
CREATED:20250515T061209Z
LAST-MODIFIED:20251217T012542Z
UID:10003532-1895562000-1895587200@southside.org.au
SUMMARY:Southside Care Op Shop
DESCRIPTION:The Southside Care Op Shop continues the Southside Church’s mission to provide practical care with dignity and compassion.
URL:https://southside.org.au/event/southside-care-op-shop/2030-01-25/
LOCATION:Southside Care Op Shop\, 175 Port Hacking Road\, Miranda\, NSW\, 2228\, Australia
CATEGORIES:Op Shop,Southside Care
ATTACH;FMTTYPE=image/jpeg:https://southside.org.au/wp-content/uploads/2025/05/southsidecareopshop.jpg
ORGANIZER;CN="Southside Care Op Shop":MAILTO:opshop@southside.org.au
END:VEVENT
BEGIN:VEVENT
DTSTART;TZID=Australia/Sydney:20300126T090000
DTEND;TZID=Australia/Sydney:20300126T130000
DTSTAMP:20260421T133059
CREATED:20250515T061844Z
LAST-MODIFIED:20250515T063828Z
UID:10003635-1895648400-1895662800@southside.org.au
SUMMARY:Southside Care Op Shop - Saturday
DESCRIPTION:The Southside Care Op Shop continues the Southside Church’s mission to provide practical care with dignity and compassion.
URL:https://southside.org.au/event/op-shop-saturday/2030-01-26/
LOCATION:Southside Care Op Shop\, 175 Port Hacking Road\, Miranda\, NSW\, 2228\, Australia
CATEGORIES:Op Shop
ATTACH;FMTTYPE=image/jpeg:https://southside.org.au/wp-content/uploads/2025/05/southsidecareopshop.jpg
ORGANIZER;CN="Southside Care Op Shop":MAILTO:opshop@southside.org.au
END:VEVENT
BEGIN:VEVENT
DTSTART;TZID=Australia/Sydney:20300130T090000
DTEND;TZID=Australia/Sydney:20300130T160000
DTSTAMP:20260421T133059
CREATED:20250515T061209Z
LAST-MODIFIED:20251217T012542Z
UID:10003533-1895994000-1896019200@southside.org.au
SUMMARY:Southside Care Op Shop
DESCRIPTION:The Southside Care Op Shop continues the Southside Church’s mission to provide practical care with dignity and compassion.
URL:https://southside.org.au/event/southside-care-op-shop/2030-01-30/
LOCATION:Southside Care Op Shop\, 175 Port Hacking Road\, Miranda\, NSW\, 2228\, Australia
CATEGORIES:Op Shop,Southside Care
ATTACH;FMTTYPE=image/jpeg:https://southside.org.au/wp-content/uploads/2025/05/southsidecareopshop.jpg
ORGANIZER;CN="Southside Care Op Shop":MAILTO:opshop@southside.org.au
END:VEVENT
BEGIN:VEVENT
DTSTART;TZID=Australia/Sydney:20300131T090000
DTEND;TZID=Australia/Sydney:20300131T160000
DTSTAMP:20260421T133059
CREATED:20250515T061209Z
LAST-MODIFIED:20251217T012542Z
UID:10003534-1896080400-1896105600@southside.org.au
SUMMARY:Southside Care Op Shop
DESCRIPTION:The Southside Care Op Shop continues the Southside Church’s mission to provide practical care with dignity and compassion.
URL:https://southside.org.au/event/southside-care-op-shop/2030-01-31/
LOCATION:Southside Care Op Shop\, 175 Port Hacking Road\, Miranda\, NSW\, 2228\, Australia
CATEGORIES:Op Shop,Southside Care
ATTACH;FMTTYPE=image/jpeg:https://southside.org.au/wp-content/uploads/2025/05/southsidecareopshop.jpg
ORGANIZER;CN="Southside Care Op Shop":MAILTO:opshop@southside.org.au
END:VEVENT
BEGIN:VEVENT
DTSTART;TZID=Australia/Sydney:20300201T090000
DTEND;TZID=Australia/Sydney:20300201T160000
DTSTAMP:20260421T133059
CREATED:20250515T061209Z
LAST-MODIFIED:20251217T012542Z
UID:10003535-1896166800-1896192000@southside.org.au
SUMMARY:Southside Care Op Shop
DESCRIPTION:The Southside Care Op Shop continues the Southside Church’s mission to provide practical care with dignity and compassion.
URL:https://southside.org.au/event/southside-care-op-shop/2030-02-01/
LOCATION:Southside Care Op Shop\, 175 Port Hacking Road\, Miranda\, NSW\, 2228\, Australia
CATEGORIES:Op Shop,Southside Care
ATTACH;FMTTYPE=image/jpeg:https://southside.org.au/wp-content/uploads/2025/05/southsidecareopshop.jpg
ORGANIZER;CN="Southside Care Op Shop":MAILTO:opshop@southside.org.au
END:VEVENT
BEGIN:VEVENT
DTSTART;TZID=Australia/Sydney:20300206T090000
DTEND;TZID=Australia/Sydney:20300206T160000
DTSTAMP:20260421T133059
CREATED:20250515T061209Z
LAST-MODIFIED:20251217T012542Z
UID:10003536-1896598800-1896624000@southside.org.au
SUMMARY:Southside Care Op Shop
DESCRIPTION:The Southside Care Op Shop continues the Southside Church’s mission to provide practical care with dignity and compassion.
URL:https://southside.org.au/event/southside-care-op-shop/2030-02-06/
LOCATION:Southside Care Op Shop\, 175 Port Hacking Road\, Miranda\, NSW\, 2228\, Australia
CATEGORIES:Op Shop,Southside Care
ATTACH;FMTTYPE=image/jpeg:https://southside.org.au/wp-content/uploads/2025/05/southsidecareopshop.jpg
ORGANIZER;CN="Southside Care Op Shop":MAILTO:opshop@southside.org.au
END:VEVENT
BEGIN:VEVENT
DTSTART;TZID=Australia/Sydney:20300207T090000
DTEND;TZID=Australia/Sydney:20300207T160000
DTSTAMP:20260421T133059
CREATED:20250515T061209Z
LAST-MODIFIED:20251217T012542Z
UID:10003537-1896685200-1896710400@southside.org.au
SUMMARY:Southside Care Op Shop
DESCRIPTION:The Southside Care Op Shop continues the Southside Church’s mission to provide practical care with dignity and compassion.
URL:https://southside.org.au/event/southside-care-op-shop/2030-02-07/
LOCATION:Southside Care Op Shop\, 175 Port Hacking Road\, Miranda\, NSW\, 2228\, Australia
CATEGORIES:Op Shop,Southside Care
ATTACH;FMTTYPE=image/jpeg:https://southside.org.au/wp-content/uploads/2025/05/southsidecareopshop.jpg
ORGANIZER;CN="Southside Care Op Shop":MAILTO:opshop@southside.org.au
END:VEVENT
BEGIN:VEVENT
DTSTART;TZID=Australia/Sydney:20300208T090000
DTEND;TZID=Australia/Sydney:20300208T160000
DTSTAMP:20260421T133059
CREATED:20250515T061209Z
LAST-MODIFIED:20251217T012542Z
UID:10003538-1896771600-1896796800@southside.org.au
SUMMARY:Southside Care Op Shop
DESCRIPTION:The Southside Care Op Shop continues the Southside Church’s mission to provide practical care with dignity and compassion.
URL:https://southside.org.au/event/southside-care-op-shop/2030-02-08/
LOCATION:Southside Care Op Shop\, 175 Port Hacking Road\, Miranda\, NSW\, 2228\, Australia
CATEGORIES:Op Shop,Southside Care
ATTACH;FMTTYPE=image/jpeg:https://southside.org.au/wp-content/uploads/2025/05/southsidecareopshop.jpg
ORGANIZER;CN="Southside Care Op Shop":MAILTO:opshop@southside.org.au
END:VEVENT
BEGIN:VEVENT
DTSTART;TZID=Australia/Sydney:20300213T090000
DTEND;TZID=Australia/Sydney:20300213T160000
DTSTAMP:20260421T133059
CREATED:20250515T061209Z
LAST-MODIFIED:20251217T012542Z
UID:10003539-1897203600-1897228800@southside.org.au
SUMMARY:Southside Care Op Shop
DESCRIPTION:The Southside Care Op Shop continues the Southside Church’s mission to provide practical care with dignity and compassion.
URL:https://southside.org.au/event/southside-care-op-shop/2030-02-13/
LOCATION:Southside Care Op Shop\, 175 Port Hacking Road\, Miranda\, NSW\, 2228\, Australia
CATEGORIES:Op Shop,Southside Care
ATTACH;FMTTYPE=image/jpeg:https://southside.org.au/wp-content/uploads/2025/05/southsidecareopshop.jpg
ORGANIZER;CN="Southside Care Op Shop":MAILTO:opshop@southside.org.au
END:VEVENT
BEGIN:VEVENT
DTSTART;TZID=Australia/Sydney:20300214T090000
DTEND;TZID=Australia/Sydney:20300214T160000
DTSTAMP:20260421T133059
CREATED:20250515T061209Z
LAST-MODIFIED:20251217T012542Z
UID:10003540-1897290000-1897315200@southside.org.au
SUMMARY:Southside Care Op Shop
DESCRIPTION:The Southside Care Op Shop continues the Southside Church’s mission to provide practical care with dignity and compassion.
URL:https://southside.org.au/event/southside-care-op-shop/2030-02-14/
LOCATION:Southside Care Op Shop\, 175 Port Hacking Road\, Miranda\, NSW\, 2228\, Australia
CATEGORIES:Op Shop,Southside Care
ATTACH;FMTTYPE=image/jpeg:https://southside.org.au/wp-content/uploads/2025/05/southsidecareopshop.jpg
ORGANIZER;CN="Southside Care Op Shop":MAILTO:opshop@southside.org.au
END:VEVENT
BEGIN:VEVENT
DTSTART;TZID=Australia/Sydney:20300215T090000
DTEND;TZID=Australia/Sydney:20300215T160000
DTSTAMP:20260421T133059
CREATED:20250515T061209Z
LAST-MODIFIED:20251217T012542Z
UID:10003541-1897376400-1897401600@southside.org.au
SUMMARY:Southside Care Op Shop
DESCRIPTION:The Southside Care Op Shop continues the Southside Church’s mission to provide practical care with dignity and compassion.
URL:https://southside.org.au/event/southside-care-op-shop/2030-02-15/
LOCATION:Southside Care Op Shop\, 175 Port Hacking Road\, Miranda\, NSW\, 2228\, Australia
CATEGORIES:Op Shop,Southside Care
ATTACH;FMTTYPE=image/jpeg:https://southside.org.au/wp-content/uploads/2025/05/southsidecareopshop.jpg
ORGANIZER;CN="Southside Care Op Shop":MAILTO:opshop@southside.org.au
END:VEVENT
BEGIN:VEVENT
DTSTART;TZID=Australia/Sydney:20300220T090000
DTEND;TZID=Australia/Sydney:20300220T160000
DTSTAMP:20260421T133059
CREATED:20250515T061209Z
LAST-MODIFIED:20251217T012542Z
UID:10003542-1897808400-1897833600@southside.org.au
SUMMARY:Southside Care Op Shop
DESCRIPTION:The Southside Care Op Shop continues the Southside Church’s mission to provide practical care with dignity and compassion.
URL:https://southside.org.au/event/southside-care-op-shop/2030-02-20/
LOCATION:Southside Care Op Shop\, 175 Port Hacking Road\, Miranda\, NSW\, 2228\, Australia
CATEGORIES:Op Shop,Southside Care
ATTACH;FMTTYPE=image/jpeg:https://southside.org.au/wp-content/uploads/2025/05/southsidecareopshop.jpg
ORGANIZER;CN="Southside Care Op Shop":MAILTO:opshop@southside.org.au
END:VEVENT
BEGIN:VEVENT
DTSTART;TZID=Australia/Sydney:20300221T090000
DTEND;TZID=Australia/Sydney:20300221T160000
DTSTAMP:20260421T133059
CREATED:20250515T061209Z
LAST-MODIFIED:20251217T012542Z
UID:10003543-1897894800-1897920000@southside.org.au
SUMMARY:Southside Care Op Shop
DESCRIPTION:The Southside Care Op Shop continues the Southside Church’s mission to provide practical care with dignity and compassion.
URL:https://southside.org.au/event/southside-care-op-shop/2030-02-21/
LOCATION:Southside Care Op Shop\, 175 Port Hacking Road\, Miranda\, NSW\, 2228\, Australia
CATEGORIES:Op Shop,Southside Care
ATTACH;FMTTYPE=image/jpeg:https://southside.org.au/wp-content/uploads/2025/05/southsidecareopshop.jpg
ORGANIZER;CN="Southside Care Op Shop":MAILTO:opshop@southside.org.au
END:VEVENT
BEGIN:VEVENT
DTSTART;TZID=Australia/Sydney:20300222T090000
DTEND;TZID=Australia/Sydney:20300222T160000
DTSTAMP:20260421T133059
CREATED:20250515T061209Z
LAST-MODIFIED:20251217T012542Z
UID:10003544-1897981200-1898006400@southside.org.au
SUMMARY:Southside Care Op Shop
DESCRIPTION:The Southside Care Op Shop continues the Southside Church’s mission to provide practical care with dignity and compassion.
URL:https://southside.org.au/event/southside-care-op-shop/2030-02-22/
LOCATION:Southside Care Op Shop\, 175 Port Hacking Road\, Miranda\, NSW\, 2228\, Australia
CATEGORIES:Op Shop,Southside Care
ATTACH;FMTTYPE=image/jpeg:https://southside.org.au/wp-content/uploads/2025/05/southsidecareopshop.jpg
ORGANIZER;CN="Southside Care Op Shop":MAILTO:opshop@southside.org.au
END:VEVENT
BEGIN:VEVENT
DTSTART;TZID=Australia/Sydney:20300223T090000
DTEND;TZID=Australia/Sydney:20300223T130000
DTSTAMP:20260421T133059
CREATED:20250515T061844Z
LAST-MODIFIED:20250515T063828Z
UID:10003636-1898067600-1898082000@southside.org.au
SUMMARY:Southside Care Op Shop - Saturday
DESCRIPTION:The Southside Care Op Shop continues the Southside Church’s mission to provide practical care with dignity and compassion.
URL:https://southside.org.au/event/op-shop-saturday/2030-02-23/
LOCATION:Southside Care Op Shop\, 175 Port Hacking Road\, Miranda\, NSW\, 2228\, Australia
CATEGORIES:Op Shop
ATTACH;FMTTYPE=image/jpeg:https://southside.org.au/wp-content/uploads/2025/05/southsidecareopshop.jpg
ORGANIZER;CN="Southside Care Op Shop":MAILTO:opshop@southside.org.au
END:VEVENT
BEGIN:VEVENT
DTSTART;TZID=Australia/Sydney:20300227T090000
DTEND;TZID=Australia/Sydney:20300227T160000
DTSTAMP:20260421T133059
CREATED:20250515T061209Z
LAST-MODIFIED:20251217T012542Z
UID:10003545-1898413200-1898438400@southside.org.au
SUMMARY:Southside Care Op Shop
DESCRIPTION:The Southside Care Op Shop continues the Southside Church’s mission to provide practical care with dignity and compassion.
URL:https://southside.org.au/event/southside-care-op-shop/2030-02-27/
LOCATION:Southside Care Op Shop\, 175 Port Hacking Road\, Miranda\, NSW\, 2228\, Australia
CATEGORIES:Op Shop,Southside Care
ATTACH;FMTTYPE=image/jpeg:https://southside.org.au/wp-content/uploads/2025/05/southsidecareopshop.jpg
ORGANIZER;CN="Southside Care Op Shop":MAILTO:opshop@southside.org.au
END:VEVENT
BEGIN:VEVENT
DTSTART;TZID=Australia/Sydney:20300228T090000
DTEND;TZID=Australia/Sydney:20300228T160000
DTSTAMP:20260421T133059
CREATED:20250515T061209Z
LAST-MODIFIED:20251217T012542Z
UID:10003546-1898499600-1898524800@southside.org.au
SUMMARY:Southside Care Op Shop
DESCRIPTION:The Southside Care Op Shop continues the Southside Church’s mission to provide practical care with dignity and compassion.
URL:https://southside.org.au/event/southside-care-op-shop/2030-02-28/
LOCATION:Southside Care Op Shop\, 175 Port Hacking Road\, Miranda\, NSW\, 2228\, Australia
CATEGORIES:Op Shop,Southside Care
ATTACH;FMTTYPE=image/jpeg:https://southside.org.au/wp-content/uploads/2025/05/southsidecareopshop.jpg
ORGANIZER;CN="Southside Care Op Shop":MAILTO:opshop@southside.org.au
END:VEVENT
BEGIN:VEVENT
DTSTART;TZID=Australia/Sydney:20300301T090000
DTEND;TZID=Australia/Sydney:20300301T160000
DTSTAMP:20260421T133059
CREATED:20250515T061209Z
LAST-MODIFIED:20251217T012542Z
UID:10003547-1898586000-1898611200@southside.org.au
SUMMARY:Southside Care Op Shop
DESCRIPTION:The Southside Care Op Shop continues the Southside Church’s mission to provide practical care with dignity and compassion.
URL:https://southside.org.au/event/southside-care-op-shop/2030-03-01/
LOCATION:Southside Care Op Shop\, 175 Port Hacking Road\, Miranda\, NSW\, 2228\, Australia
CATEGORIES:Op Shop,Southside Care
ATTACH;FMTTYPE=image/jpeg:https://southside.org.au/wp-content/uploads/2025/05/southsidecareopshop.jpg
ORGANIZER;CN="Southside Care Op Shop":MAILTO:opshop@southside.org.au
END:VEVENT
BEGIN:VEVENT
DTSTART;TZID=Australia/Sydney:20300306T090000
DTEND;TZID=Australia/Sydney:20300306T160000
DTSTAMP:20260421T133059
CREATED:20250515T061209Z
LAST-MODIFIED:20251217T012542Z
UID:10003548-1899018000-1899043200@southside.org.au
SUMMARY:Southside Care Op Shop
DESCRIPTION:The Southside Care Op Shop continues the Southside Church’s mission to provide practical care with dignity and compassion.
URL:https://southside.org.au/event/southside-care-op-shop/2030-03-06/
LOCATION:Southside Care Op Shop\, 175 Port Hacking Road\, Miranda\, NSW\, 2228\, Australia
CATEGORIES:Op Shop,Southside Care
ATTACH;FMTTYPE=image/jpeg:https://southside.org.au/wp-content/uploads/2025/05/southsidecareopshop.jpg
ORGANIZER;CN="Southside Care Op Shop":MAILTO:opshop@southside.org.au
END:VEVENT
BEGIN:VEVENT
DTSTART;TZID=Australia/Sydney:20300307T090000
DTEND;TZID=Australia/Sydney:20300307T160000
DTSTAMP:20260421T133059
CREATED:20250515T061209Z
LAST-MODIFIED:20251217T012542Z
UID:10003549-1899104400-1899129600@southside.org.au
SUMMARY:Southside Care Op Shop
DESCRIPTION:The Southside Care Op Shop continues the Southside Church’s mission to provide practical care with dignity and compassion.
URL:https://southside.org.au/event/southside-care-op-shop/2030-03-07/
LOCATION:Southside Care Op Shop\, 175 Port Hacking Road\, Miranda\, NSW\, 2228\, Australia
CATEGORIES:Op Shop,Southside Care
ATTACH;FMTTYPE=image/jpeg:https://southside.org.au/wp-content/uploads/2025/05/southsidecareopshop.jpg
ORGANIZER;CN="Southside Care Op Shop":MAILTO:opshop@southside.org.au
END:VEVENT
BEGIN:VEVENT
DTSTART;TZID=Australia/Sydney:20300308T090000
DTEND;TZID=Australia/Sydney:20300308T160000
DTSTAMP:20260421T133059
CREATED:20250515T061209Z
LAST-MODIFIED:20251217T012542Z
UID:10003550-1899190800-1899216000@southside.org.au
SUMMARY:Southside Care Op Shop
DESCRIPTION:The Southside Care Op Shop continues the Southside Church’s mission to provide practical care with dignity and compassion.
URL:https://southside.org.au/event/southside-care-op-shop/2030-03-08/
LOCATION:Southside Care Op Shop\, 175 Port Hacking Road\, Miranda\, NSW\, 2228\, Australia
CATEGORIES:Op Shop,Southside Care
ATTACH;FMTTYPE=image/jpeg:https://southside.org.au/wp-content/uploads/2025/05/southsidecareopshop.jpg
ORGANIZER;CN="Southside Care Op Shop":MAILTO:opshop@southside.org.au
END:VEVENT
BEGIN:VEVENT
DTSTART;TZID=Australia/Sydney:20300313T090000
DTEND;TZID=Australia/Sydney:20300313T160000
DTSTAMP:20260421T133059
CREATED:20250515T061209Z
LAST-MODIFIED:20251217T012542Z
UID:10003551-1899622800-1899648000@southside.org.au
SUMMARY:Southside Care Op Shop
DESCRIPTION:The Southside Care Op Shop continues the Southside Church’s mission to provide practical care with dignity and compassion.
URL:https://southside.org.au/event/southside-care-op-shop/2030-03-13/
LOCATION:Southside Care Op Shop\, 175 Port Hacking Road\, Miranda\, NSW\, 2228\, Australia
CATEGORIES:Op Shop,Southside Care
ATTACH;FMTTYPE=image/jpeg:https://southside.org.au/wp-content/uploads/2025/05/southsidecareopshop.jpg
ORGANIZER;CN="Southside Care Op Shop":MAILTO:opshop@southside.org.au
END:VEVENT
BEGIN:VEVENT
DTSTART;TZID=Australia/Sydney:20300314T090000
DTEND;TZID=Australia/Sydney:20300314T160000
DTSTAMP:20260421T133059
CREATED:20250515T061209Z
LAST-MODIFIED:20251217T012542Z
UID:10003552-1899709200-1899734400@southside.org.au
SUMMARY:Southside Care Op Shop
DESCRIPTION:The Southside Care Op Shop continues the Southside Church’s mission to provide practical care with dignity and compassion.
URL:https://southside.org.au/event/southside-care-op-shop/2030-03-14/
LOCATION:Southside Care Op Shop\, 175 Port Hacking Road\, Miranda\, NSW\, 2228\, Australia
CATEGORIES:Op Shop,Southside Care
ATTACH;FMTTYPE=image/jpeg:https://southside.org.au/wp-content/uploads/2025/05/southsidecareopshop.jpg
ORGANIZER;CN="Southside Care Op Shop":MAILTO:opshop@southside.org.au
END:VEVENT
BEGIN:VEVENT
DTSTART;TZID=Australia/Sydney:20300315T090000
DTEND;TZID=Australia/Sydney:20300315T160000
DTSTAMP:20260421T133059
CREATED:20250515T061209Z
LAST-MODIFIED:20251217T012542Z
UID:10003553-1899795600-1899820800@southside.org.au
SUMMARY:Southside Care Op Shop
DESCRIPTION:The Southside Care Op Shop continues the Southside Church’s mission to provide practical care with dignity and compassion.
URL:https://southside.org.au/event/southside-care-op-shop/2030-03-15/
LOCATION:Southside Care Op Shop\, 175 Port Hacking Road\, Miranda\, NSW\, 2228\, Australia
CATEGORIES:Op Shop,Southside Care
ATTACH;FMTTYPE=image/jpeg:https://southside.org.au/wp-content/uploads/2025/05/southsidecareopshop.jpg
ORGANIZER;CN="Southside Care Op Shop":MAILTO:opshop@southside.org.au
END:VEVENT
BEGIN:VEVENT
DTSTART;TZID=Australia/Sydney:20300320T090000
DTEND;TZID=Australia/Sydney:20300320T160000
DTSTAMP:20260421T133059
CREATED:20250515T061209Z
LAST-MODIFIED:20251217T012542Z
UID:10003554-1900227600-1900252800@southside.org.au
SUMMARY:Southside Care Op Shop
DESCRIPTION:The Southside Care Op Shop continues the Southside Church’s mission to provide practical care with dignity and compassion.
URL:https://southside.org.au/event/southside-care-op-shop/2030-03-20/
LOCATION:Southside Care Op Shop\, 175 Port Hacking Road\, Miranda\, NSW\, 2228\, Australia
CATEGORIES:Op Shop,Southside Care
ATTACH;FMTTYPE=image/jpeg:https://southside.org.au/wp-content/uploads/2025/05/southsidecareopshop.jpg
ORGANIZER;CN="Southside Care Op Shop":MAILTO:opshop@southside.org.au
END:VEVENT
BEGIN:VEVENT
DTSTART;TZID=Australia/Sydney:20300321T090000
DTEND;TZID=Australia/Sydney:20300321T160000
DTSTAMP:20260421T133059
CREATED:20250515T061209Z
LAST-MODIFIED:20251217T012542Z
UID:10003555-1900314000-1900339200@southside.org.au
SUMMARY:Southside Care Op Shop
DESCRIPTION:The Southside Care Op Shop continues the Southside Church’s mission to provide practical care with dignity and compassion.
URL:https://southside.org.au/event/southside-care-op-shop/2030-03-21/
LOCATION:Southside Care Op Shop\, 175 Port Hacking Road\, Miranda\, NSW\, 2228\, Australia
CATEGORIES:Op Shop,Southside Care
ATTACH;FMTTYPE=image/jpeg:https://southside.org.au/wp-content/uploads/2025/05/southsidecareopshop.jpg
ORGANIZER;CN="Southside Care Op Shop":MAILTO:opshop@southside.org.au
END:VEVENT
BEGIN:VEVENT
DTSTART;TZID=Australia/Sydney:20300322T090000
DTEND;TZID=Australia/Sydney:20300322T160000
DTSTAMP:20260421T133059
CREATED:20250515T061209Z
LAST-MODIFIED:20251217T012542Z
UID:10003556-1900400400-1900425600@southside.org.au
SUMMARY:Southside Care Op Shop
DESCRIPTION:The Southside Care Op Shop continues the Southside Church’s mission to provide practical care with dignity and compassion.
URL:https://southside.org.au/event/southside-care-op-shop/2030-03-22/
LOCATION:Southside Care Op Shop\, 175 Port Hacking Road\, Miranda\, NSW\, 2228\, Australia
CATEGORIES:Op Shop,Southside Care
ATTACH;FMTTYPE=image/jpeg:https://southside.org.au/wp-content/uploads/2025/05/southsidecareopshop.jpg
ORGANIZER;CN="Southside Care Op Shop":MAILTO:opshop@southside.org.au
END:VEVENT
END:VCALENDAR