BEGIN:VCALENDAR
VERSION:2.0
PRODID:-//Southside Church - ECPv6.15.12.2//NONSGML v1.0//EN
CALSCALE:GREGORIAN
METHOD:PUBLISH
X-WR-CALNAME:Southside Church
X-ORIGINAL-URL:https://southside.org.au
X-WR-CALDESC:Events for Southside Church
REFRESH-INTERVAL;VALUE=DURATION:PT1H
X-Robots-Tag:noindex
X-PUBLISHED-TTL:PT1H
BEGIN:VTIMEZONE
TZID:Australia/Sydney
BEGIN:STANDARD
TZOFFSETFROM:+1100
TZOFFSETTO:+1000
TZNAME:AEST
DTSTART:20290331T160000
END:STANDARD
BEGIN:DAYLIGHT
TZOFFSETFROM:+1000
TZOFFSETTO:+1100
TZNAME:AEDT
DTSTART:20291006T160000
END:DAYLIGHT
BEGIN:STANDARD
TZOFFSETFROM:+1100
TZOFFSETTO:+1000
TZNAME:AEST
DTSTART:20300406T160000
END:STANDARD
BEGIN:DAYLIGHT
TZOFFSETFROM:+1000
TZOFFSETTO:+1100
TZNAME:AEDT
DTSTART:20301005T160000
END:DAYLIGHT
BEGIN:STANDARD
TZOFFSETFROM:+1100
TZOFFSETTO:+1000
TZNAME:AEST
DTSTART:20310405T160000
END:STANDARD
BEGIN:DAYLIGHT
TZOFFSETFROM:+1000
TZOFFSETTO:+1100
TZNAME:AEDT
DTSTART:20311004T160000
END:DAYLIGHT
END:VTIMEZONE
BEGIN:VEVENT
DTSTART;TZID=Australia/Sydney:20300314T090000
DTEND;TZID=Australia/Sydney:20300314T160000
DTSTAMP:20260422T205528
CREATED:20250515T061209Z
LAST-MODIFIED:20251217T012542Z
UID:10003552-1899709200-1899734400@southside.org.au
SUMMARY:Southside Care Op Shop
DESCRIPTION:The Southside Care Op Shop continues the Southside Church’s mission to provide practical care with dignity and compassion.
URL:https://southside.org.au/event/southside-care-op-shop/2030-03-14/
LOCATION:Southside Care Op Shop\, 175 Port Hacking Road\, Miranda\, NSW\, 2228\, Australia
CATEGORIES:Op Shop,Southside Care
ATTACH;FMTTYPE=image/jpeg:https://southside.org.au/wp-content/uploads/2025/05/southsidecareopshop.jpg
ORGANIZER;CN="Southside Care Op Shop":MAILTO:opshop@southside.org.au
END:VEVENT
BEGIN:VEVENT
DTSTART;TZID=Australia/Sydney:20300315T090000
DTEND;TZID=Australia/Sydney:20300315T160000
DTSTAMP:20260422T205528
CREATED:20250515T061209Z
LAST-MODIFIED:20251217T012542Z
UID:10003553-1899795600-1899820800@southside.org.au
SUMMARY:Southside Care Op Shop
DESCRIPTION:The Southside Care Op Shop continues the Southside Church’s mission to provide practical care with dignity and compassion.
URL:https://southside.org.au/event/southside-care-op-shop/2030-03-15/
LOCATION:Southside Care Op Shop\, 175 Port Hacking Road\, Miranda\, NSW\, 2228\, Australia
CATEGORIES:Op Shop,Southside Care
ATTACH;FMTTYPE=image/jpeg:https://southside.org.au/wp-content/uploads/2025/05/southsidecareopshop.jpg
ORGANIZER;CN="Southside Care Op Shop":MAILTO:opshop@southside.org.au
END:VEVENT
BEGIN:VEVENT
DTSTART;TZID=Australia/Sydney:20300320T090000
DTEND;TZID=Australia/Sydney:20300320T160000
DTSTAMP:20260422T205528
CREATED:20250515T061209Z
LAST-MODIFIED:20251217T012542Z
UID:10003554-1900227600-1900252800@southside.org.au
SUMMARY:Southside Care Op Shop
DESCRIPTION:The Southside Care Op Shop continues the Southside Church’s mission to provide practical care with dignity and compassion.
URL:https://southside.org.au/event/southside-care-op-shop/2030-03-20/
LOCATION:Southside Care Op Shop\, 175 Port Hacking Road\, Miranda\, NSW\, 2228\, Australia
CATEGORIES:Op Shop,Southside Care
ATTACH;FMTTYPE=image/jpeg:https://southside.org.au/wp-content/uploads/2025/05/southsidecareopshop.jpg
ORGANIZER;CN="Southside Care Op Shop":MAILTO:opshop@southside.org.au
END:VEVENT
BEGIN:VEVENT
DTSTART;TZID=Australia/Sydney:20300321T090000
DTEND;TZID=Australia/Sydney:20300321T160000
DTSTAMP:20260422T205528
CREATED:20250515T061209Z
LAST-MODIFIED:20251217T012542Z
UID:10003555-1900314000-1900339200@southside.org.au
SUMMARY:Southside Care Op Shop
DESCRIPTION:The Southside Care Op Shop continues the Southside Church’s mission to provide practical care with dignity and compassion.
URL:https://southside.org.au/event/southside-care-op-shop/2030-03-21/
LOCATION:Southside Care Op Shop\, 175 Port Hacking Road\, Miranda\, NSW\, 2228\, Australia
CATEGORIES:Op Shop,Southside Care
ATTACH;FMTTYPE=image/jpeg:https://southside.org.au/wp-content/uploads/2025/05/southsidecareopshop.jpg
ORGANIZER;CN="Southside Care Op Shop":MAILTO:opshop@southside.org.au
END:VEVENT
BEGIN:VEVENT
DTSTART;TZID=Australia/Sydney:20300322T090000
DTEND;TZID=Australia/Sydney:20300322T160000
DTSTAMP:20260422T205528
CREATED:20250515T061209Z
LAST-MODIFIED:20251217T012542Z
UID:10003556-1900400400-1900425600@southside.org.au
SUMMARY:Southside Care Op Shop
DESCRIPTION:The Southside Care Op Shop continues the Southside Church’s mission to provide practical care with dignity and compassion.
URL:https://southside.org.au/event/southside-care-op-shop/2030-03-22/
LOCATION:Southside Care Op Shop\, 175 Port Hacking Road\, Miranda\, NSW\, 2228\, Australia
CATEGORIES:Op Shop,Southside Care
ATTACH;FMTTYPE=image/jpeg:https://southside.org.au/wp-content/uploads/2025/05/southsidecareopshop.jpg
ORGANIZER;CN="Southside Care Op Shop":MAILTO:opshop@southside.org.au
END:VEVENT
BEGIN:VEVENT
DTSTART;TZID=Australia/Sydney:20300327T090000
DTEND;TZID=Australia/Sydney:20300327T160000
DTSTAMP:20260422T205528
CREATED:20250515T061209Z
LAST-MODIFIED:20251217T012542Z
UID:10003557-1900832400-1900857600@southside.org.au
SUMMARY:Southside Care Op Shop
DESCRIPTION:The Southside Care Op Shop continues the Southside Church’s mission to provide practical care with dignity and compassion.
URL:https://southside.org.au/event/southside-care-op-shop/2030-03-27/
LOCATION:Southside Care Op Shop\, 175 Port Hacking Road\, Miranda\, NSW\, 2228\, Australia
CATEGORIES:Op Shop,Southside Care
ATTACH;FMTTYPE=image/jpeg:https://southside.org.au/wp-content/uploads/2025/05/southsidecareopshop.jpg
ORGANIZER;CN="Southside Care Op Shop":MAILTO:opshop@southside.org.au
END:VEVENT
BEGIN:VEVENT
DTSTART;TZID=Australia/Sydney:20300328T090000
DTEND;TZID=Australia/Sydney:20300328T160000
DTSTAMP:20260422T205528
CREATED:20250515T061209Z
LAST-MODIFIED:20251217T012542Z
UID:10003558-1900918800-1900944000@southside.org.au
SUMMARY:Southside Care Op Shop
DESCRIPTION:The Southside Care Op Shop continues the Southside Church’s mission to provide practical care with dignity and compassion.
URL:https://southside.org.au/event/southside-care-op-shop/2030-03-28/
LOCATION:Southside Care Op Shop\, 175 Port Hacking Road\, Miranda\, NSW\, 2228\, Australia
CATEGORIES:Op Shop,Southside Care
ATTACH;FMTTYPE=image/jpeg:https://southside.org.au/wp-content/uploads/2025/05/southsidecareopshop.jpg
ORGANIZER;CN="Southside Care Op Shop":MAILTO:opshop@southside.org.au
END:VEVENT
BEGIN:VEVENT
DTSTART;TZID=Australia/Sydney:20300329T090000
DTEND;TZID=Australia/Sydney:20300329T160000
DTSTAMP:20260422T205528
CREATED:20250515T061209Z
LAST-MODIFIED:20251217T012542Z
UID:10003559-1901005200-1901030400@southside.org.au
SUMMARY:Southside Care Op Shop
DESCRIPTION:The Southside Care Op Shop continues the Southside Church’s mission to provide practical care with dignity and compassion.
URL:https://southside.org.au/event/southside-care-op-shop/2030-03-29/
LOCATION:Southside Care Op Shop\, 175 Port Hacking Road\, Miranda\, NSW\, 2228\, Australia
CATEGORIES:Op Shop,Southside Care
ATTACH;FMTTYPE=image/jpeg:https://southside.org.au/wp-content/uploads/2025/05/southsidecareopshop.jpg
ORGANIZER;CN="Southside Care Op Shop":MAILTO:opshop@southside.org.au
END:VEVENT
BEGIN:VEVENT
DTSTART;TZID=Australia/Sydney:20300330T090000
DTEND;TZID=Australia/Sydney:20300330T130000
DTSTAMP:20260422T205528
CREATED:20250515T061844Z
LAST-MODIFIED:20250515T063828Z
UID:10003637-1901091600-1901106000@southside.org.au
SUMMARY:Southside Care Op Shop - Saturday
DESCRIPTION:The Southside Care Op Shop continues the Southside Church’s mission to provide practical care with dignity and compassion.
URL:https://southside.org.au/event/op-shop-saturday/2030-03-30/
LOCATION:Southside Care Op Shop\, 175 Port Hacking Road\, Miranda\, NSW\, 2228\, Australia
CATEGORIES:Op Shop
ATTACH;FMTTYPE=image/jpeg:https://southside.org.au/wp-content/uploads/2025/05/southsidecareopshop.jpg
ORGANIZER;CN="Southside Care Op Shop":MAILTO:opshop@southside.org.au
END:VEVENT
BEGIN:VEVENT
DTSTART;TZID=Australia/Sydney:20300403T090000
DTEND;TZID=Australia/Sydney:20300403T160000
DTSTAMP:20260422T205528
CREATED:20250515T061209Z
LAST-MODIFIED:20251217T012542Z
UID:10003560-1901437200-1901462400@southside.org.au
SUMMARY:Southside Care Op Shop
DESCRIPTION:The Southside Care Op Shop continues the Southside Church’s mission to provide practical care with dignity and compassion.
URL:https://southside.org.au/event/southside-care-op-shop/2030-04-03/
LOCATION:Southside Care Op Shop\, 175 Port Hacking Road\, Miranda\, NSW\, 2228\, Australia
CATEGORIES:Op Shop,Southside Care
ATTACH;FMTTYPE=image/jpeg:https://southside.org.au/wp-content/uploads/2025/05/southsidecareopshop.jpg
ORGANIZER;CN="Southside Care Op Shop":MAILTO:opshop@southside.org.au
END:VEVENT
BEGIN:VEVENT
DTSTART;TZID=Australia/Sydney:20300404T090000
DTEND;TZID=Australia/Sydney:20300404T160000
DTSTAMP:20260422T205528
CREATED:20250515T061209Z
LAST-MODIFIED:20251217T012542Z
UID:10003561-1901523600-1901548800@southside.org.au
SUMMARY:Southside Care Op Shop
DESCRIPTION:The Southside Care Op Shop continues the Southside Church’s mission to provide practical care with dignity and compassion.
URL:https://southside.org.au/event/southside-care-op-shop/2030-04-04/
LOCATION:Southside Care Op Shop\, 175 Port Hacking Road\, Miranda\, NSW\, 2228\, Australia
CATEGORIES:Op Shop,Southside Care
ATTACH;FMTTYPE=image/jpeg:https://southside.org.au/wp-content/uploads/2025/05/southsidecareopshop.jpg
ORGANIZER;CN="Southside Care Op Shop":MAILTO:opshop@southside.org.au
END:VEVENT
BEGIN:VEVENT
DTSTART;TZID=Australia/Sydney:20300405T090000
DTEND;TZID=Australia/Sydney:20300405T160000
DTSTAMP:20260422T205528
CREATED:20250515T061209Z
LAST-MODIFIED:20251217T012542Z
UID:10003562-1901610000-1901635200@southside.org.au
SUMMARY:Southside Care Op Shop
DESCRIPTION:The Southside Care Op Shop continues the Southside Church’s mission to provide practical care with dignity and compassion.
URL:https://southside.org.au/event/southside-care-op-shop/2030-04-05/
LOCATION:Southside Care Op Shop\, 175 Port Hacking Road\, Miranda\, NSW\, 2228\, Australia
CATEGORIES:Op Shop,Southside Care
ATTACH;FMTTYPE=image/jpeg:https://southside.org.au/wp-content/uploads/2025/05/southsidecareopshop.jpg
ORGANIZER;CN="Southside Care Op Shop":MAILTO:opshop@southside.org.au
END:VEVENT
BEGIN:VEVENT
DTSTART;TZID=Australia/Sydney:20300410T090000
DTEND;TZID=Australia/Sydney:20300410T160000
DTSTAMP:20260422T205528
CREATED:20250515T061209Z
LAST-MODIFIED:20251217T012542Z
UID:10003563-1902042000-1902067200@southside.org.au
SUMMARY:Southside Care Op Shop
DESCRIPTION:The Southside Care Op Shop continues the Southside Church’s mission to provide practical care with dignity and compassion.
URL:https://southside.org.au/event/southside-care-op-shop/2030-04-10/
LOCATION:Southside Care Op Shop\, 175 Port Hacking Road\, Miranda\, NSW\, 2228\, Australia
CATEGORIES:Op Shop,Southside Care
ATTACH;FMTTYPE=image/jpeg:https://southside.org.au/wp-content/uploads/2025/05/southsidecareopshop.jpg
ORGANIZER;CN="Southside Care Op Shop":MAILTO:opshop@southside.org.au
END:VEVENT
BEGIN:VEVENT
DTSTART;TZID=Australia/Sydney:20300411T090000
DTEND;TZID=Australia/Sydney:20300411T160000
DTSTAMP:20260422T205528
CREATED:20250515T061209Z
LAST-MODIFIED:20251217T012542Z
UID:10003564-1902128400-1902153600@southside.org.au
SUMMARY:Southside Care Op Shop
DESCRIPTION:The Southside Care Op Shop continues the Southside Church’s mission to provide practical care with dignity and compassion.
URL:https://southside.org.au/event/southside-care-op-shop/2030-04-11/
LOCATION:Southside Care Op Shop\, 175 Port Hacking Road\, Miranda\, NSW\, 2228\, Australia
CATEGORIES:Op Shop,Southside Care
ATTACH;FMTTYPE=image/jpeg:https://southside.org.au/wp-content/uploads/2025/05/southsidecareopshop.jpg
ORGANIZER;CN="Southside Care Op Shop":MAILTO:opshop@southside.org.au
END:VEVENT
BEGIN:VEVENT
DTSTART;TZID=Australia/Sydney:20300412T090000
DTEND;TZID=Australia/Sydney:20300412T160000
DTSTAMP:20260422T205528
CREATED:20250515T061209Z
LAST-MODIFIED:20251217T012542Z
UID:10003565-1902214800-1902240000@southside.org.au
SUMMARY:Southside Care Op Shop
DESCRIPTION:The Southside Care Op Shop continues the Southside Church’s mission to provide practical care with dignity and compassion.
URL:https://southside.org.au/event/southside-care-op-shop/2030-04-12/
LOCATION:Southside Care Op Shop\, 175 Port Hacking Road\, Miranda\, NSW\, 2228\, Australia
CATEGORIES:Op Shop,Southside Care
ATTACH;FMTTYPE=image/jpeg:https://southside.org.au/wp-content/uploads/2025/05/southsidecareopshop.jpg
ORGANIZER;CN="Southside Care Op Shop":MAILTO:opshop@southside.org.au
END:VEVENT
BEGIN:VEVENT
DTSTART;TZID=Australia/Sydney:20300417T090000
DTEND;TZID=Australia/Sydney:20300417T160000
DTSTAMP:20260422T205528
CREATED:20250515T061209Z
LAST-MODIFIED:20251217T012542Z
UID:10003566-1902646800-1902672000@southside.org.au
SUMMARY:Southside Care Op Shop
DESCRIPTION:The Southside Care Op Shop continues the Southside Church’s mission to provide practical care with dignity and compassion.
URL:https://southside.org.au/event/southside-care-op-shop/2030-04-17/
LOCATION:Southside Care Op Shop\, 175 Port Hacking Road\, Miranda\, NSW\, 2228\, Australia
CATEGORIES:Op Shop,Southside Care
ATTACH;FMTTYPE=image/jpeg:https://southside.org.au/wp-content/uploads/2025/05/southsidecareopshop.jpg
ORGANIZER;CN="Southside Care Op Shop":MAILTO:opshop@southside.org.au
END:VEVENT
BEGIN:VEVENT
DTSTART;TZID=Australia/Sydney:20300418T090000
DTEND;TZID=Australia/Sydney:20300418T160000
DTSTAMP:20260422T205528
CREATED:20250515T061209Z
LAST-MODIFIED:20251217T012542Z
UID:10003567-1902733200-1902758400@southside.org.au
SUMMARY:Southside Care Op Shop
DESCRIPTION:The Southside Care Op Shop continues the Southside Church’s mission to provide practical care with dignity and compassion.
URL:https://southside.org.au/event/southside-care-op-shop/2030-04-18/
LOCATION:Southside Care Op Shop\, 175 Port Hacking Road\, Miranda\, NSW\, 2228\, Australia
CATEGORIES:Op Shop,Southside Care
ATTACH;FMTTYPE=image/jpeg:https://southside.org.au/wp-content/uploads/2025/05/southsidecareopshop.jpg
ORGANIZER;CN="Southside Care Op Shop":MAILTO:opshop@southside.org.au
END:VEVENT
BEGIN:VEVENT
DTSTART;TZID=Australia/Sydney:20300419T090000
DTEND;TZID=Australia/Sydney:20300419T160000
DTSTAMP:20260422T205528
CREATED:20250515T061209Z
LAST-MODIFIED:20251217T012542Z
UID:10003568-1902819600-1902844800@southside.org.au
SUMMARY:Southside Care Op Shop
DESCRIPTION:The Southside Care Op Shop continues the Southside Church’s mission to provide practical care with dignity and compassion.
URL:https://southside.org.au/event/southside-care-op-shop/2030-04-19/
LOCATION:Southside Care Op Shop\, 175 Port Hacking Road\, Miranda\, NSW\, 2228\, Australia
CATEGORIES:Op Shop,Southside Care
ATTACH;FMTTYPE=image/jpeg:https://southside.org.au/wp-content/uploads/2025/05/southsidecareopshop.jpg
ORGANIZER;CN="Southside Care Op Shop":MAILTO:opshop@southside.org.au
END:VEVENT
BEGIN:VEVENT
DTSTART;TZID=Australia/Sydney:20300424T090000
DTEND;TZID=Australia/Sydney:20300424T160000
DTSTAMP:20260422T205528
CREATED:20250515T061209Z
LAST-MODIFIED:20251217T012542Z
UID:10003569-1903251600-1903276800@southside.org.au
SUMMARY:Southside Care Op Shop
DESCRIPTION:The Southside Care Op Shop continues the Southside Church’s mission to provide practical care with dignity and compassion.
URL:https://southside.org.au/event/southside-care-op-shop/2030-04-24/
LOCATION:Southside Care Op Shop\, 175 Port Hacking Road\, Miranda\, NSW\, 2228\, Australia
CATEGORIES:Op Shop,Southside Care
ATTACH;FMTTYPE=image/jpeg:https://southside.org.au/wp-content/uploads/2025/05/southsidecareopshop.jpg
ORGANIZER;CN="Southside Care Op Shop":MAILTO:opshop@southside.org.au
END:VEVENT
BEGIN:VEVENT
DTSTART;TZID=Australia/Sydney:20300425T090000
DTEND;TZID=Australia/Sydney:20300425T160000
DTSTAMP:20260422T205528
CREATED:20250515T061209Z
LAST-MODIFIED:20251217T012542Z
UID:10003570-1903338000-1903363200@southside.org.au
SUMMARY:Southside Care Op Shop
DESCRIPTION:The Southside Care Op Shop continues the Southside Church’s mission to provide practical care with dignity and compassion.
URL:https://southside.org.au/event/southside-care-op-shop/2030-04-25/
LOCATION:Southside Care Op Shop\, 175 Port Hacking Road\, Miranda\, NSW\, 2228\, Australia
CATEGORIES:Op Shop,Southside Care
ATTACH;FMTTYPE=image/jpeg:https://southside.org.au/wp-content/uploads/2025/05/southsidecareopshop.jpg
ORGANIZER;CN="Southside Care Op Shop":MAILTO:opshop@southside.org.au
END:VEVENT
BEGIN:VEVENT
DTSTART;TZID=Australia/Sydney:20300426T090000
DTEND;TZID=Australia/Sydney:20300426T160000
DTSTAMP:20260422T205528
CREATED:20250515T061209Z
LAST-MODIFIED:20251217T012542Z
UID:10003571-1903424400-1903449600@southside.org.au
SUMMARY:Southside Care Op Shop
DESCRIPTION:The Southside Care Op Shop continues the Southside Church’s mission to provide practical care with dignity and compassion.
URL:https://southside.org.au/event/southside-care-op-shop/2030-04-26/
LOCATION:Southside Care Op Shop\, 175 Port Hacking Road\, Miranda\, NSW\, 2228\, Australia
CATEGORIES:Op Shop,Southside Care
ATTACH;FMTTYPE=image/jpeg:https://southside.org.au/wp-content/uploads/2025/05/southsidecareopshop.jpg
ORGANIZER;CN="Southside Care Op Shop":MAILTO:opshop@southside.org.au
END:VEVENT
BEGIN:VEVENT
DTSTART;TZID=Australia/Sydney:20300427T090000
DTEND;TZID=Australia/Sydney:20300427T130000
DTSTAMP:20260422T205528
CREATED:20250515T061844Z
LAST-MODIFIED:20250515T063828Z
UID:10003638-1903510800-1903525200@southside.org.au
SUMMARY:Southside Care Op Shop - Saturday
DESCRIPTION:The Southside Care Op Shop continues the Southside Church’s mission to provide practical care with dignity and compassion.
URL:https://southside.org.au/event/op-shop-saturday/2030-04-27/
LOCATION:Southside Care Op Shop\, 175 Port Hacking Road\, Miranda\, NSW\, 2228\, Australia
CATEGORIES:Op Shop
ATTACH;FMTTYPE=image/jpeg:https://southside.org.au/wp-content/uploads/2025/05/southsidecareopshop.jpg
ORGANIZER;CN="Southside Care Op Shop":MAILTO:opshop@southside.org.au
END:VEVENT
BEGIN:VEVENT
DTSTART;TZID=Australia/Sydney:20300501T090000
DTEND;TZID=Australia/Sydney:20300501T160000
DTSTAMP:20260422T205528
CREATED:20250515T061209Z
LAST-MODIFIED:20251217T012542Z
UID:10003572-1903856400-1903881600@southside.org.au
SUMMARY:Southside Care Op Shop
DESCRIPTION:The Southside Care Op Shop continues the Southside Church’s mission to provide practical care with dignity and compassion.
URL:https://southside.org.au/event/southside-care-op-shop/2030-05-01/
LOCATION:Southside Care Op Shop\, 175 Port Hacking Road\, Miranda\, NSW\, 2228\, Australia
CATEGORIES:Op Shop,Southside Care
ATTACH;FMTTYPE=image/jpeg:https://southside.org.au/wp-content/uploads/2025/05/southsidecareopshop.jpg
ORGANIZER;CN="Southside Care Op Shop":MAILTO:opshop@southside.org.au
END:VEVENT
BEGIN:VEVENT
DTSTART;TZID=Australia/Sydney:20300502T090000
DTEND;TZID=Australia/Sydney:20300502T160000
DTSTAMP:20260422T205528
CREATED:20250515T061209Z
LAST-MODIFIED:20251217T012542Z
UID:10003573-1903942800-1903968000@southside.org.au
SUMMARY:Southside Care Op Shop
DESCRIPTION:The Southside Care Op Shop continues the Southside Church’s mission to provide practical care with dignity and compassion.
URL:https://southside.org.au/event/southside-care-op-shop/2030-05-02/
LOCATION:Southside Care Op Shop\, 175 Port Hacking Road\, Miranda\, NSW\, 2228\, Australia
CATEGORIES:Op Shop,Southside Care
ATTACH;FMTTYPE=image/jpeg:https://southside.org.au/wp-content/uploads/2025/05/southsidecareopshop.jpg
ORGANIZER;CN="Southside Care Op Shop":MAILTO:opshop@southside.org.au
END:VEVENT
BEGIN:VEVENT
DTSTART;TZID=Australia/Sydney:20300503T090000
DTEND;TZID=Australia/Sydney:20300503T160000
DTSTAMP:20260422T205528
CREATED:20250515T061209Z
LAST-MODIFIED:20251217T012542Z
UID:10003574-1904029200-1904054400@southside.org.au
SUMMARY:Southside Care Op Shop
DESCRIPTION:The Southside Care Op Shop continues the Southside Church’s mission to provide practical care with dignity and compassion.
URL:https://southside.org.au/event/southside-care-op-shop/2030-05-03/
LOCATION:Southside Care Op Shop\, 175 Port Hacking Road\, Miranda\, NSW\, 2228\, Australia
CATEGORIES:Op Shop,Southside Care
ATTACH;FMTTYPE=image/jpeg:https://southside.org.au/wp-content/uploads/2025/05/southsidecareopshop.jpg
ORGANIZER;CN="Southside Care Op Shop":MAILTO:opshop@southside.org.au
END:VEVENT
BEGIN:VEVENT
DTSTART;TZID=Australia/Sydney:20300508T090000
DTEND;TZID=Australia/Sydney:20300508T160000
DTSTAMP:20260422T205528
CREATED:20250515T061209Z
LAST-MODIFIED:20251217T012542Z
UID:10003575-1904461200-1904486400@southside.org.au
SUMMARY:Southside Care Op Shop
DESCRIPTION:The Southside Care Op Shop continues the Southside Church’s mission to provide practical care with dignity and compassion.
URL:https://southside.org.au/event/southside-care-op-shop/2030-05-08/
LOCATION:Southside Care Op Shop\, 175 Port Hacking Road\, Miranda\, NSW\, 2228\, Australia
CATEGORIES:Op Shop,Southside Care
ATTACH;FMTTYPE=image/jpeg:https://southside.org.au/wp-content/uploads/2025/05/southsidecareopshop.jpg
ORGANIZER;CN="Southside Care Op Shop":MAILTO:opshop@southside.org.au
END:VEVENT
BEGIN:VEVENT
DTSTART;TZID=Australia/Sydney:20300509T090000
DTEND;TZID=Australia/Sydney:20300509T160000
DTSTAMP:20260422T205528
CREATED:20250515T061209Z
LAST-MODIFIED:20251217T012542Z
UID:10003576-1904547600-1904572800@southside.org.au
SUMMARY:Southside Care Op Shop
DESCRIPTION:The Southside Care Op Shop continues the Southside Church’s mission to provide practical care with dignity and compassion.
URL:https://southside.org.au/event/southside-care-op-shop/2030-05-09/
LOCATION:Southside Care Op Shop\, 175 Port Hacking Road\, Miranda\, NSW\, 2228\, Australia
CATEGORIES:Op Shop,Southside Care
ATTACH;FMTTYPE=image/jpeg:https://southside.org.au/wp-content/uploads/2025/05/southsidecareopshop.jpg
ORGANIZER;CN="Southside Care Op Shop":MAILTO:opshop@southside.org.au
END:VEVENT
BEGIN:VEVENT
DTSTART;TZID=Australia/Sydney:20300510T090000
DTEND;TZID=Australia/Sydney:20300510T160000
DTSTAMP:20260422T205528
CREATED:20250515T061209Z
LAST-MODIFIED:20251217T012542Z
UID:10003577-1904634000-1904659200@southside.org.au
SUMMARY:Southside Care Op Shop
DESCRIPTION:The Southside Care Op Shop continues the Southside Church’s mission to provide practical care with dignity and compassion.
URL:https://southside.org.au/event/southside-care-op-shop/2030-05-10/
LOCATION:Southside Care Op Shop\, 175 Port Hacking Road\, Miranda\, NSW\, 2228\, Australia
CATEGORIES:Op Shop,Southside Care
ATTACH;FMTTYPE=image/jpeg:https://southside.org.au/wp-content/uploads/2025/05/southsidecareopshop.jpg
ORGANIZER;CN="Southside Care Op Shop":MAILTO:opshop@southside.org.au
END:VEVENT
BEGIN:VEVENT
DTSTART;TZID=Australia/Sydney:20300515T090000
DTEND;TZID=Australia/Sydney:20300515T160000
DTSTAMP:20260422T205528
CREATED:20250515T061209Z
LAST-MODIFIED:20251217T012542Z
UID:10003578-1905066000-1905091200@southside.org.au
SUMMARY:Southside Care Op Shop
DESCRIPTION:The Southside Care Op Shop continues the Southside Church’s mission to provide practical care with dignity and compassion.
URL:https://southside.org.au/event/southside-care-op-shop/2030-05-15/
LOCATION:Southside Care Op Shop\, 175 Port Hacking Road\, Miranda\, NSW\, 2228\, Australia
CATEGORIES:Op Shop,Southside Care
ATTACH;FMTTYPE=image/jpeg:https://southside.org.au/wp-content/uploads/2025/05/southsidecareopshop.jpg
ORGANIZER;CN="Southside Care Op Shop":MAILTO:opshop@southside.org.au
END:VEVENT
BEGIN:VEVENT
DTSTART;TZID=Australia/Sydney:20300516T090000
DTEND;TZID=Australia/Sydney:20300516T160000
DTSTAMP:20260422T205528
CREATED:20250515T061209Z
LAST-MODIFIED:20251217T012542Z
UID:10003701-1905152400-1905177600@southside.org.au
SUMMARY:Southside Care Op Shop
DESCRIPTION:The Southside Care Op Shop continues the Southside Church’s mission to provide practical care with dignity and compassion.
URL:https://southside.org.au/event/southside-care-op-shop/2030-05-16/
LOCATION:Southside Care Op Shop\, 175 Port Hacking Road\, Miranda\, NSW\, 2228\, Australia
CATEGORIES:Op Shop,Southside Care
ATTACH;FMTTYPE=image/jpeg:https://southside.org.au/wp-content/uploads/2025/05/southsidecareopshop.jpg
ORGANIZER;CN="Southside Care Op Shop":MAILTO:opshop@southside.org.au
END:VEVENT
END:VCALENDAR